BEGIN:VCALENDAR
VERSION:2.0
PRODID:-//子育てママでも田舎でノマド Smile Mam* - ECPv6.7.0//NONSGML v1.0//EN
CALSCALE:GREGORIAN
METHOD:PUBLISH
X-WR-CALNAME:子育てママでも田舎でノマド Smile Mam*
X-ORIGINAL-URL:https://smilemam.info
X-WR-CALDESC:子育てママでも田舎でノマド Smile Mam* のイベント
REFRESH-INTERVAL;VALUE=DURATION:PT1H
X-Robots-Tag:noindex
X-PUBLISHED-TTL:PT1H
BEGIN:VTIMEZONE
TZID:Asia/Tokyo
BEGIN:STANDARD
TZOFFSETFROM:+0900
TZOFFSETTO:+0900
TZNAME:JST
DTSTART:20180101T000000
END:STANDARD
END:VTIMEZONE
BEGIN:VEVENT
DTSTART;TZID=Asia/Tokyo:20181029T023100
DTEND;TZID=Asia/Tokyo:20181029T030700
DTSTAMP:20260423T024559
CREATED:20181014T153255Z
LAST-MODIFIED:20181026T035947Z
UID:23130-1540780260-1540782420@smilemam.info
SUMMARY:【読売テレビ】部活好きじゃなきゃダメですか？
DESCRIPTION:10月28日（日）26:31~27:07 \n部活、好きじゃなきゃダメですか？ \n髙橋海人 神宮寺勇太 岩橋玄樹が出演 \n読売テレビの番組表 >> \n部ダメのホームページ >> \n  \n見逃してしまった場合は、下の記事をどうぞ　↓ \n部活好きじゃなきゃダメですか第1話(10/22)動画を無料で視聴-デイリーモーションやパンドラでみられる? \n \n 
URL:https://smilemam.info/event/budame-yomiuri-story1
CATEGORIES:budame
END:VEVENT
BEGIN:VEVENT
DTSTART;TZID=Asia/Tokyo:20181023T005900
DTEND;TZID=Asia/Tokyo:20181023T012900
DTSTAMP:20260423T024559
CREATED:20181018T165820Z
LAST-MODIFIED:20181018T170034Z
UID:23927-1540256340-1540258140@smilemam.info
SUMMARY:【山梨】部活好きじゃなきゃダメですか
DESCRIPTION:10月22日（月）24:59～25:29 \n部活、好きじゃなきゃダメですか（部ダメ） \n髙橋海人 神宮寺勇太 岩橋玄樹 \n山梨放送の番組表 >> \n\n \n部活、好きじゃなきゃダメですか（部ダメ）のホームページ >>
URL:https://smilemam.info/event/budame-yamanashi-story1
CATEGORIES:budame
END:VEVENT
BEGIN:VEVENT
DTSTART;TZID=Asia/Tokyo:20181023T005900
DTEND;TZID=Asia/Tokyo:20181023T012900
DTSTAMP:20260423T024559
CREATED:20181018T165610Z
LAST-MODIFIED:20181018T170610Z
UID:23925-1540256340-1540258140@smilemam.info
SUMMARY:【宮城】部活好きじゃなきゃダメですか
DESCRIPTION:10月22日（月）24:59～25:29 \n部活、好きじゃなきゃダメですか（部ダメ） \n髙橋海人 神宮寺勇太 岩橋玄樹 \nミヤギテレビの番組表 >> \n\n \n部活、好きじゃなきゃダメですか（部ダメ）のホームページ >>
URL:https://smilemam.info/event/budame-miyagi-story1
CATEGORIES:budame
END:VEVENT
BEGIN:VEVENT
DTSTART;TZID=Asia/Tokyo:20181023T005900
DTEND;TZID=Asia/Tokyo:20181023T012900
DTSTAMP:20260423T024559
CREATED:20181014T152115Z
LAST-MODIFIED:20181025T155918Z
UID:23125-1540256340-1540258140@smilemam.info
SUMMARY:部活好きじゃなきゃダメですか第1話
DESCRIPTION:10月22日（月）24時59分～25時29分【日本テレビ】 \n部活、好きじゃなきゃダメですか（部ダメ） \n髙橋海人 神宮寺勇太 岩橋玄樹 \n部活、好きじゃなきゃダメですか（部ダメ）のホームページ >> \n見逃してしまった場合は、下の記事をどうぞ ↓ \n部ダメ第1話を見逃しても観られる方法 >>
URL:https://smilemam.info/event/budame20181022-story1
CATEGORIES:budame,drama
END:VEVENT
END:VCALENDAR