BEGIN:VCALENDAR
VERSION:2.0
PRODID:-//子育てママでも田舎でノマド Smile Mam* - ECPv6.7.0//NONSGML v1.0//EN
CALSCALE:GREGORIAN
METHOD:PUBLISH
X-WR-CALNAME:子育てママでも田舎でノマド Smile Mam*
X-ORIGINAL-URL:https://smilemam.info
X-WR-CALDESC:子育てママでも田舎でノマド Smile Mam* のイベント
REFRESH-INTERVAL;VALUE=DURATION:PT1H
X-Robots-Tag:noindex
X-PUBLISHED-TTL:PT1H
BEGIN:VTIMEZONE
TZID:Asia/Tokyo
BEGIN:STANDARD
TZOFFSETFROM:+0900
TZOFFSETTO:+0900
TZNAME:JST
DTSTART:20180101T000000
END:STANDARD
END:VTIMEZONE
BEGIN:VEVENT
DTSTART;TZID=Asia/Tokyo:20181120T005900
DTEND;TZID=Asia/Tokyo:20181120T012900
DTSTAMP:20260423T165613
CREATED:20181115T105659Z
LAST-MODIFIED:20181126T102804Z
UID:27665-1542675540-1542677340@smilemam.info
SUMMARY:部活好きじゃなきゃダメですか第5話
DESCRIPTION:11月19日（月）24:59～25:29【日本テレビ】\n部活、好きじゃなきゃダメですか（部ダメ）\n髙橋海人 神宮寺勇太 岩橋玄樹 \n\n本日深夜はいよいよ5話放送です！窪田に何かを吹き込んでいる西野と大山をお届け！ライバルとの練習試合、お見逃しなく！#部活好きじゃなきゃダメですか  #部ダメ #シンドラ #ntv#今日は先週の投稿の大答え合わせ大会#すね当ての謎 #シュッシュッ #何かの重り #髙橋海人 #神宮寺勇太 #岩橋玄樹 pic.twitter.com/NSQMQOxfbj \n— 【公式】部活、好きじゃなきゃダメですか？ (@bukatsu_ntv) 2018年11月19日 \n \n>
URL:https://smilemam.info/event/budame20181109-story5
CATEGORIES:budame
ATTACH;FMTTYPE=image/jpeg:https://smilemam.info/wp-content/uploads/2018/09/budame3.jpg
END:VEVENT
BEGIN:VEVENT
DTSTART;TZID=Asia/Tokyo:20181113T005900
DTEND;TZID=Asia/Tokyo:20181113T012900
DTSTAMP:20260423T165613
CREATED:20181105T152226Z
LAST-MODIFIED:20181113T074332Z
UID:27098-1542070740-1542072540@smilemam.info
SUMMARY:部活好きじゃなきゃダメですか第4話
DESCRIPTION:11月12日（月）24:59～25:29【日本テレビ】 \n部活、好きじゃなきゃダメですか（部ダメ） \n髙橋海人 神宮寺勇太 岩橋玄樹 \n部活、好きじゃなきゃダメですか（部ダメ）のホームページ >> \n \n見逃してしまった場合は、下の記事をどうぞ ↓ \n部ダメを見逃しても観られる方法 >>
URL:https://smilemam.info/event/budame20181112-story4
CATEGORIES:budame
ATTACH;FMTTYPE=image/jpeg:https://smilemam.info/wp-content/uploads/2018/09/budame3.jpg
END:VEVENT
BEGIN:VEVENT
DTSTART;TZID=Asia/Tokyo:20181106T010900
DTEND;TZID=Asia/Tokyo:20181106T013900
DTSTAMP:20260423T165613
CREATED:20181025T155706Z
LAST-MODIFIED:20181105T153307Z
UID:25607-1541466540-1541468340@smilemam.info
SUMMARY:部活好きじゃなきゃダメですか第3話
DESCRIPTION:11月5日（月）25時09分～25時39分【日本テレビ】 \n部活、好きじゃなきゃダメですか（部ダメ） \n髙橋海人 神宮寺勇太 岩橋玄樹 \n部活、好きじゃなきゃダメですか（部ダメ）のホームページ >> \n \n見逃してしまった場合は、下の記事をどうぞ ↓ \n部ダメを見逃しても観られる方法 >>
URL:https://smilemam.info/event/budame20181105-story3
CATEGORIES:budame
END:VEVENT
BEGIN:VEVENT
DTSTART;TZID=Asia/Tokyo:20181104T022500
DTEND;TZID=Asia/Tokyo:20181104T022500
DTSTAMP:20260423T165613
CREATED:20181024T003035Z
LAST-MODIFIED:20181024T003120Z
UID:25331-1541298300-1541298300@smilemam.info
SUMMARY:【青森】部ダメ初回放送
DESCRIPTION:11/3（土）25:25～ RAB青森放送 \n以後、毎週土曜25:25～ \nRAB青森放送の番組表  >>
URL:https://smilemam.info/event/aomori-budame-story1
CATEGORIES:budame
END:VEVENT
BEGIN:VEVENT
DTSTART;TZID=Asia/Tokyo:20181030T015900
DTEND;TZID=Asia/Tokyo:20181030T015900
DTSTAMP:20260423T165613
CREATED:20181024T001406Z
LAST-MODIFIED:20181024T001851Z
UID:25327-1540864740-1540864740@smilemam.info
SUMMARY:【福岡】部ダメ初回放送
DESCRIPTION:10月29日（月）25:59～　【FBS福岡放送】 \n毎週月曜日25:59～ \n福岡放送の番組表 >>
URL:https://smilemam.info/event/fukuoka-budame-story1
CATEGORIES:budame
END:VEVENT
BEGIN:VEVENT
DTSTART;TZID=Asia/Tokyo:20181030T005900
DTEND;TZID=Asia/Tokyo:20181030T012700
DTSTAMP:20260423T165613
CREATED:20181025T101009Z
LAST-MODIFIED:20181029T180342Z
UID:25519-1540861140-1540862820@smilemam.info
SUMMARY:部活好きじゃなきゃダメですか 第2話
DESCRIPTION:10月29日（月）24:59~25:29 \n部活好きじゃなきゃダメですか（部ダメ） 第2話 \n髙橋海人 神宮寺勇太 岩橋玄樹 \n部ダメのホームページ >> \n \n見逃してしまった場合は、下の記事をどうぞ ↓ \n部ダメを見逃してしまった！というときでも観られる方法 >>
URL:https://smilemam.info/event/budame-story2
CATEGORIES:budame
ATTACH;FMTTYPE=image/jpeg:https://smilemam.info/wp-content/uploads/2018/09/budame3.jpg
END:VEVENT
BEGIN:VEVENT
DTSTART;TZID=Asia/Tokyo:20181029T023100
DTEND;TZID=Asia/Tokyo:20181029T030700
DTSTAMP:20260423T165613
CREATED:20181014T153255Z
LAST-MODIFIED:20181026T035947Z
UID:23130-1540780260-1540782420@smilemam.info
SUMMARY:【読売テレビ】部活好きじゃなきゃダメですか？
DESCRIPTION:10月28日（日）26:31~27:07 \n部活、好きじゃなきゃダメですか？ \n髙橋海人 神宮寺勇太 岩橋玄樹が出演 \n読売テレビの番組表 >> \n部ダメのホームページ >> \n  \n見逃してしまった場合は、下の記事をどうぞ　↓ \n部活好きじゃなきゃダメですか第1話(10/22)動画を無料で視聴-デイリーモーションやパンドラでみられる? \n \n 
URL:https://smilemam.info/event/budame-yomiuri-story1
CATEGORIES:budame
END:VEVENT
BEGIN:VEVENT
DTSTART;TZID=Asia/Tokyo:20181023T005900
DTEND;TZID=Asia/Tokyo:20181023T012900
DTSTAMP:20260423T165613
CREATED:20181018T165820Z
LAST-MODIFIED:20181018T170034Z
UID:23927-1540256340-1540258140@smilemam.info
SUMMARY:【山梨】部活好きじゃなきゃダメですか
DESCRIPTION:10月22日（月）24:59～25:29 \n部活、好きじゃなきゃダメですか（部ダメ） \n髙橋海人 神宮寺勇太 岩橋玄樹 \n山梨放送の番組表 >> \n\n \n部活、好きじゃなきゃダメですか（部ダメ）のホームページ >>
URL:https://smilemam.info/event/budame-yamanashi-story1
CATEGORIES:budame
END:VEVENT
BEGIN:VEVENT
DTSTART;TZID=Asia/Tokyo:20181023T005900
DTEND;TZID=Asia/Tokyo:20181023T012900
DTSTAMP:20260423T165613
CREATED:20181018T165610Z
LAST-MODIFIED:20181018T170610Z
UID:23925-1540256340-1540258140@smilemam.info
SUMMARY:【宮城】部活好きじゃなきゃダメですか
DESCRIPTION:10月22日（月）24:59～25:29 \n部活、好きじゃなきゃダメですか（部ダメ） \n髙橋海人 神宮寺勇太 岩橋玄樹 \nミヤギテレビの番組表 >> \n\n \n部活、好きじゃなきゃダメですか（部ダメ）のホームページ >>
URL:https://smilemam.info/event/budame-miyagi-story1
CATEGORIES:budame
END:VEVENT
BEGIN:VEVENT
DTSTART;TZID=Asia/Tokyo:20181023T005900
DTEND;TZID=Asia/Tokyo:20181023T012900
DTSTAMP:20260423T165613
CREATED:20181014T152115Z
LAST-MODIFIED:20181025T155918Z
UID:23125-1540256340-1540258140@smilemam.info
SUMMARY:部活好きじゃなきゃダメですか第1話
DESCRIPTION:10月22日（月）24時59分～25時29分【日本テレビ】 \n部活、好きじゃなきゃダメですか（部ダメ） \n髙橋海人 神宮寺勇太 岩橋玄樹 \n部活、好きじゃなきゃダメですか（部ダメ）のホームページ >> \n見逃してしまった場合は、下の記事をどうぞ ↓ \n部ダメ第1話を見逃しても観られる方法 >>
URL:https://smilemam.info/event/budame20181022-story1
CATEGORIES:budame,drama
END:VEVENT
END:VCALENDAR