BEGIN:VCALENDAR
VERSION:2.0
PRODID:-//子育てママでも田舎でノマド Smile Mam* - ECPv6.7.0//NONSGML v1.0//EN
CALSCALE:GREGORIAN
METHOD:PUBLISH
X-ORIGINAL-URL:https://smilemam.info
X-WR-CALDESC:子育てママでも田舎でノマド Smile Mam* のイベント
REFRESH-INTERVAL;VALUE=DURATION:PT1H
X-Robots-Tag:noindex
X-PUBLISHED-TTL:PT1H
BEGIN:VTIMEZONE
TZID:Asia/Tokyo
BEGIN:STANDARD
TZOFFSETFROM:+0900
TZOFFSETTO:+0900
TZNAME:JST
DTSTART:20180101T000000
END:STANDARD
END:VTIMEZONE
BEGIN:VEVENT
DTSTART;TZID=Asia/Tokyo:20181120T005900
DTEND;TZID=Asia/Tokyo:20181120T012900
DTSTAMP:20260423T073201
CREATED:20181115T105659Z
LAST-MODIFIED:20181126T102804Z
UID:27665-1542675540-1542677340@smilemam.info
SUMMARY:部活好きじゃなきゃダメですか第5話
DESCRIPTION:11月19日（月）24:59～25:29【日本テレビ】\n部活、好きじゃなきゃダメですか（部ダメ）\n髙橋海人 神宮寺勇太 岩橋玄樹 \n\n本日深夜はいよいよ5話放送です！窪田に何かを吹き込んでいる西野と大山をお届け！ライバルとの練習試合、お見逃しなく！#部活好きじゃなきゃダメですか  #部ダメ #シンドラ #ntv#今日は先週の投稿の大答え合わせ大会#すね当ての謎 #シュッシュッ #何かの重り #髙橋海人 #神宮寺勇太 #岩橋玄樹 pic.twitter.com/NSQMQOxfbj \n— 【公式】部活、好きじゃなきゃダメですか？ (@bukatsu_ntv) 2018年11月19日 \n \n>
URL:https://smilemam.info/event/budame20181109-story5
CATEGORIES:budame
ATTACH;FMTTYPE=image/jpeg:https://smilemam.info/wp-content/uploads/2018/09/budame3.jpg
END:VEVENT
BEGIN:VEVENT
DTSTART;TZID=Asia/Tokyo:20181204T005900
DTEND;TZID=Asia/Tokyo:20181204T012900
DTSTAMP:20260423T073201
CREATED:20181203T094352Z
LAST-MODIFIED:20181203T124112Z
UID:29704-1543885140-1543886940@smilemam.info
SUMMARY:部活好きじゃなきゃダメですか 第7話
DESCRIPTION:12月3日（月）24:59～25:29【日本テレビ】\n部活、好きじゃなきゃダメですか（部ダメ）\n髙橋海人 神宮寺勇太 岩橋玄樹 \n\n#いいにくいことを言う日\n正直、めっちゃ言いにくいですが…\n7話、神回なんです！！\n予告貼っておくので、色々想像してください！！#部活好きじゃなきゃダメですか#部ダメ #シンドラ #ntv#マネージャーの回ハンパないって#一色さん袖クソまくってんな#髙橋海人 #神宮寺勇太 #岩橋玄樹 #森本慎太郎 pic.twitter.com/tTBW4aFkH2 \n— 【公式】部活、好きじゃなきゃダメですか？ (@bukatsu_ntv) 2018年11月29日 \n \n\n今日はいよいよ7話放送！\nサッカー部ってほんとにおバカ！笑\nマネージャーが来るなりテンション爆発しちゃうんだから！\n目がさめるほど爆笑します！！#部活好きじゃなきゃダメですか#部ダメ #シンドラ #ntv#マネージャー#永遠を誓おう君を守り続けるよ#髙橋海人 #神宮寺勇太 #岩橋玄樹 #古川琴音 pic.twitter.com/yglSda8qeL \n— 【公式】部活、好きじゃなきゃダメですか？ (@bukatsu_ntv) 2018年12月3日 \n \n部活、好きじゃなきゃダメですか？のホームページ >> \n 
URL:https://smilemam.info/event/budame20181203-story7
CATEGORIES:budame
END:VEVENT
BEGIN:VEVENT
DTSTART;TZID=Asia/Tokyo:20181211T005900
DTEND;TZID=Asia/Tokyo:20181211T012900
DTSTAMP:20260423T073201
CREATED:20181216T193232Z
LAST-MODIFIED:20181216T193453Z
UID:31188-1544489940-1544491740@smilemam.info
SUMMARY:部活好きじゃなきゃダメですか 第8話
DESCRIPTION:12月10日（月）24:59～25:29【日本テレビ】\n部活、好きじゃなきゃダメですか（部ダメ）\n髙橋海人 神宮寺勇太 岩橋玄樹 \n部活、好きじゃなきゃダメですか？のホームページ >> \n 
URL:https://smilemam.info/event/budame20181210-story8
CATEGORIES:budame
END:VEVENT
BEGIN:VEVENT
DTSTART;TZID=Asia/Tokyo:20181225T005400
DTEND;TZID=Asia/Tokyo:20181225T012900
DTSTAMP:20260423T073201
CREATED:20181219T154106Z
LAST-MODIFIED:20181226T035028Z
UID:31345-1545699240-1545701340@smilemam.info
SUMMARY:部活好きじゃなきゃダメですか 第10話（最終回）
DESCRIPTION:12月24日（月）24:59～25:29【日本テレビ】\n部活、好きじゃなきゃダメですか（部ダメ）\n髙橋海人 神宮寺勇太 岩橋玄樹 \n\n最終回PRが泣けたと噂なので公開します！\n3人の背中、どんな答えを出したのか、想像してください！\nそして、明日はWeb限定で最終回PR動画第2弾を解禁します！\n是非楽しみにしててくださいね！#部活好きじゃなきゃダメですか#部ダメ #シンドラ #ntv#漫画みたいな青春なんてあるわけねーよ#いやある pic.twitter.com/6nttz2TPQl \n— 【公式】部活、好きじゃなきゃダメですか？ (@bukatsu_ntv) 2018年12月19日 \n \n見逃してしまった方は、視聴できる方法をどうぞ！↓ \n部活好きじゃなきゃダメですか第10話(12/24)動画を無料で視聴-デイリーモーションやパンドラでみられる? \n  \nBlu-rayやグッズの予約も始まりましたね！ \n \nDVDが10\,010円で（23%（2\,990円）OFF）、\nブルーレイが12\,320円 23%（3\,680円）OFFで\nセブンネットショッピングが一番安いです。 \n（ちなみに「Memorial」、キンプリ1stコンサートのDVD/Blu-rayも\nセブンネットショッピングが一番安いです。 \n「花晴れ」のブルーレイやDVDも\n40%（11\,520円）OFFのセール中ですよ！） \n  \nセブンネットショッピングの在庫をチェック>> \n  \n楽天でも予約できます。 \n\n\n\n\n  \n\n\n\n\n\n\n\n\n部活、好きじゃなきゃダメですか?【Blu-ray】 [ 高橋海人 神宮寺勇太 岩橋玄樹 主演ドラマ ] \n \n楽天で購入\n\n\n\n\n\n\n\n\n\n\n\n\n\n\n  \n\n\n\n\n\n\n\n\n部活、好きじゃなきゃダメですか？ クッションポーチ(完全生産限定盤) \n \n楽天で購入\n\n\n\n\n\n\n\n\n\n\n\n\n\n\n  \n\n\n\n\n\n\n\n\n部活、好きじゃなきゃダメですか？ ハンドタオル(完全生産限定盤) \n \n楽天で購入\n\n\n\n\n\n\n\n\n\n\n  \n部活、好きじゃなきゃダメですか？のホームページ >> \n 
URL:https://smilemam.info/event/budame20181224story10
CATEGORIES:budame
END:VEVENT
BEGIN:VEVENT
DTSTART;TZID=Asia/Tokyo:20190203T012500
DTEND;TZID=Asia/Tokyo:20190203T015500
DTSTAMP:20260423T073201
CREATED:20190121T160242Z
LAST-MODIFIED:20190121T160407Z
UID:34576-1549157100-1549158900@smilemam.info
SUMMARY:部活、好きじゃなきゃダメですか?【RKC高知放送】第1話
DESCRIPTION:2/2（土）25:25～ 高知放送 \n高知放送の番組表 >>
URL:https://smilemam.info/event/bukatsu-sukijyanakya-damedesuka-kochi
CATEGORIES:budame
END:VEVENT
BEGIN:VEVENT
DTSTART;TZID=Asia/Tokyo:20190210T011500
DTEND;TZID=Asia/Tokyo:20190210T014500
DTSTAMP:20260423T073201
CREATED:20190121T160455Z
LAST-MODIFIED:20190121T161555Z
UID:34578-1549761300-1549763100@smilemam.info
SUMMARY:部活、好きじゃなきゃダメですか?【テレビ新潟】第1話
DESCRIPTION:2/9（土）25:15～ テレビ新潟 \nテレビ新潟の番組表 >>
URL:https://smilemam.info/event/%e9%83%a8%e6%b4%bb%e3%80%81%e5%a5%bd%e3%81%8d%e3%81%98%e3%82%83%e3%81%aa%e3%81%8d%e3%82%83%e3%83%80%e3%83%a1%e3%81%a7%e3%81%99%e3%81%8b%e3%80%90%e3%83%86%e3%83%ac%e3%83%93%e6%96%b0%e6%bd%9f%e3%80%91
CATEGORIES:budame
END:VEVENT
BEGIN:VEVENT
DTSTART;TZID=Asia/Tokyo:20201123T102500
DTEND;TZID=Asia/Tokyo:20201123T113000
DTSTAMP:20260423T073201
CREATED:20201122T073901Z
LAST-MODIFIED:20201123T030534Z
UID:48521-1606127100-1606131000@smilemam.info
SUMMARY:【キンプリ】はやドキ、ZIP、めざましテレビ、バゲット 『 I promise』MV解禁　TV初告白(秘)事件簿
DESCRIPTION:11/23（月）10:25～11:30 日テレ \nKing & Prince「I promise」Music Video-Dance ver.- \n \n\nはやドキ \nKing&Prince「I promise」Dance ver. MV公開 \nかっこいい～！！しょうれんがニヤニヤしてたのをバラす海ちゃんw#はやドキ #I_promise #KingandPrince #キンプリ pic.twitter.com/qq83n8weg4 \n— サシャ ながせのつぶやき (@gsaranene) November 22\, 2020 \n   \n\n11/23 ZIP!6時台 \nKing & Prince 新曲MV公開『I promise』紫耀くんの全てが格好良すぎて震える( ；∀；)♥️神宮寺くんスタイル良すぎる( ；∀；) \n12月16日発売#キンプリ pic.twitter.com/WNYIr8Qsxp \n— ♛ (@yuzuume55) November 22\, 2020 \n   \n\n明日キンプリちゃんバゲット😀 \nKing & Prince / I promise /　Mazy Night pic.twitter.com/TyutziY8g8 \n— 👑るんるん👑 (@runrun_show) November 22\, 2020
URL:https://smilemam.info/event/aguette20201123-king-and-prince
CATEGORIES:budame
END:VEVENT
END:VCALENDAR