BEGIN:VCALENDAR
VERSION:2.0
PRODID:-//子育てママでも田舎でノマド Smile Mam* - ECPv6.7.0//NONSGML v1.0//EN
CALSCALE:GREGORIAN
METHOD:PUBLISH
X-WR-CALNAME:子育てママでも田舎でノマド Smile Mam*
X-ORIGINAL-URL:https://smilemam.info
X-WR-CALDESC:子育てママでも田舎でノマド Smile Mam* のイベント
REFRESH-INTERVAL;VALUE=DURATION:PT1H
X-Robots-Tag:noindex
X-PUBLISHED-TTL:PT1H
BEGIN:VTIMEZONE
TZID:Asia/Tokyo
BEGIN:STANDARD
TZOFFSETFROM:+0900
TZOFFSETTO:+0900
TZNAME:JST
DTSTART:20180101T000000
END:STANDARD
END:VTIMEZONE
BEGIN:VEVENT
DTSTART;TZID=Asia/Tokyo:20181231T235500
DTEND;TZID=Asia/Tokyo:20190101T050000
DTSTAMP:20260421T231023
CREATED:20181225T225958Z
LAST-MODIFIED:20181231T181145Z
UID:31747-1546300500-1546318800@smilemam.info
SUMMARY:【キンプリ】CDTV年越しプレミアライブ
DESCRIPTION:クリスマス音楽祭内で年越しプレミアライブの出演者情報が発表になりました！\n今年の司会者は #中居正広 さん！\nさらに超豪華アーティストも出演決定！\n観覧募集も同時に開始！\n2019年を一緒に迎えよう！#CDTV #CDTV年越しhttps://t.co/sCwgLvktxJ \n— TBS-CDTV (@TBSCDTV) 2018年12月24日 \n \n司会者　中居正広 \nタイムテーブル　11:55～1:00\naiko\nE-girls\nEXILE\n大黒摩季\n三代目 J SOUL BROTHERS from EXILE TRIBE\nGENERATIONS from EXILE TRIBE\nDA PUMP\nTWICE\n広瀬香美\nhitomi \nタイムテーブル　1:00～3:00\nIZ*ONE\nE-girls\n家入レオ\nAKB48\nHKT48\nA.B.C-Z\nKis-My-Ft2\nKing & Prince\nCHEMISTRY\n欅坂46\nジャニーズWEST\nジェジュン\nGENERATIONS from EXILE TRIBE\nSEKAI NO OWARI\n高橋優\n西野カナ\nNEWS\n乃木坂46\n三浦大知\n吉本坂46\nLittle Glee Monster \n\nCDTV 2018-19 キンプリシンデレラガール ① \n短時間で3回も披露して疲れてるはずなのに最高 pic.twitter.com/4YSQB4WKPP \n— 姫子 (@__pi__6) 2018年12月31日 \n \n\nCDTV 2018-19 キンプリシンデレラガール ② pic.twitter.com/u9P3Cctnc6 \n— 姫子 (@__pi__6) 2018年12月31日 \n \nタイムテーブル　3:00～5:00\nAqours\n足立佳奈\nきゃりーぱみゅぱみゅ\nCreepy Nuts\nゴールデンボンバー\nTHE RAMPAGE from EXILE TRIBE\nSHISHAMO\n須澤紀信\nDAIGO\n焚吐×みやかわくん\nChuning Candy\n電波少女\n刀剣男士\nビッケブランカ\n藤原さくら\nフェアリーズ\nBrian the Sun\nFLOW\nmiwa\nモーニング娘。’19\n吉田山田\nリアクション ザ ブッタ\nLiSA\n緑黄色社会 \n出演者 \n\n\naiko \nE-girls \nAKB48 \nA.B.C-Z \nEXILE \nKis-My-Ft2 \nKing ＆ Prince \nCHEMISTRY \n欅坂46 \n三代目 J Soul Brothers from EXILE TRIBE \nGENERATIONS from EXILE TRIBE \nジャニーズWEST \n高橋優 \nDA PUMP \nTWICE \n西野カナ \nNEWS \n乃木坂46 \n三浦大知 \n吉本坂46 \nLittle Glee Monster\n\n\n  \n CDTV年越しプレミアライブのホームページ >> \n 
URL:https://smilemam.info/event/king-and-prince-cdtv-toshiokoshi-premium-live
END:VEVENT
END:VCALENDAR