BEGIN:VCALENDAR
VERSION:2.0
PRODID:-//子育てママでも田舎でノマド Smile Mam* - ECPv6.7.0//NONSGML v1.0//EN
CALSCALE:GREGORIAN
METHOD:PUBLISH
X-ORIGINAL-URL:https://smilemam.info
X-WR-CALDESC:子育てママでも田舎でノマド Smile Mam* のイベント
REFRESH-INTERVAL;VALUE=DURATION:PT1H
X-Robots-Tag:noindex
X-PUBLISHED-TTL:PT1H
BEGIN:VTIMEZONE
TZID:Asia/Tokyo
BEGIN:STANDARD
TZOFFSETFROM:+0900
TZOFFSETTO:+0900
TZNAME:JST
DTSTART:20190101T000000
END:STANDARD
END:VTIMEZONE
BEGIN:VEVENT
DTSTART;TZID=Asia/Tokyo:20190310T093000
DTEND;TZID=Asia/Tokyo:20190310T215500
DTSTAMP:20260420T194901
CREATED:20190301T131243Z
LAST-MODIFIED:20190301T131918Z
UID:37181-1552210200-1552254900@smilemam.info
SUMMARY:【JOHNNYS King & Prince Island】まいジャニ
DESCRIPTION:3月10日（日）9:30～9:55　まいど！ジャーニィ～　BSフジ \n1月19日のキンプリアイランド（ジャニアイ）にカメラが入っていたのですよね。 \nそれが3月10日に放送されます！ \nまいど！ジャーニィ～のホームページ >> \n 
URL:https://smilemam.info/event/johnnys-king-prince-island-maido-johnny
END:VEVENT
END:VCALENDAR