BEGIN:VCALENDAR
VERSION:2.0
PRODID:-//子育てママでも田舎でノマド Smile Mam* - ECPv6.7.0//NONSGML v1.0//EN
CALSCALE:GREGORIAN
METHOD:PUBLISH
X-ORIGINAL-URL:https://smilemam.info
X-WR-CALDESC:子育てママでも田舎でノマド Smile Mam* のイベント
REFRESH-INTERVAL;VALUE=DURATION:PT1H
X-Robots-Tag:noindex
X-PUBLISHED-TTL:PT1H
BEGIN:VTIMEZONE
TZID:Asia/Tokyo
BEGIN:STANDARD
TZOFFSETFROM:+0900
TZOFFSETTO:+0900
TZNAME:JST
DTSTART:20190101T000000
END:STANDARD
END:VTIMEZONE
BEGIN:VEVENT
DTSTART;TZID=Asia/Tokyo:20190623T000500
DTEND;TZID=Asia/Tokyo:20190623T003500
DTSTAMP:20260423T075715
CREATED:20190426T142218Z
LAST-MODIFIED:20190630T043958Z
UID:39839-1561248300-1561250100@smilemam.info
SUMMARY:【キンプリ】シブヤノオト King ＆ Prince リクエストLIVE
DESCRIPTION:6月22日（土）24:05～24:35 NHK 総合\n見逃してしまった方は7月22日に観られますよ。\n7/22【キンプリ】シブヤノオトPresents King ＆ Prince リクエストLIVE >> \n\n【リクエストありがとうございます】 \n・これまで発表した曲の中から10曲・みなさんに選んでいただきました・そのリクエストでセットリスト決まります・特別なメドレーあります \nシブヤノオト PresentsKing & Prince リクエストLIVE23（日）午前0:05 ※土曜深夜［総合］https://t.co/r9aOaTjSYO \n— NHK広報局 (@NHK_PR) 2019年6月21日 \n \n\nシブヤノオト presentsKing & Prince リクエストライブ \n番宣とれたー！！✨#キンプリ #KingPrince #KingandPrince #平野紫耀 #岸優太 #永瀬廉 #神宮寺勇太 #髙橋海人 #岩橋玄樹  King & Prince #シブヤノオト pic.twitter.com/8i0dURKGw7 \n— リンズ (@kinpri_lingzi) 2019年6月22日 \n \n\n👑#KingPrince リクエストLIVE👑 \nリクエスト企画２発目💥King & Prince マッスル化計画！🔥#岸優太 #髙橋海人 #平野紫耀 が「今キンプリに必要なのは筋肉！」とハードな筋トレロケに😥#シブヤノオト#平野さんこのあと筋肉がつきすぎて#服が入らなくなったらしい#入らなくなった服ほしい \n— シブヤノオト (@nhk_oto) 2019年6月22日 \n \n\n2019.6.23 シブヤノオト \n      King & Prince マッスル化計画！ \n               3人のかわいさよ‥😻 \n画面に映る紫耀くんのどの瞬間も好きです。好きしかないです。存在自体が‥愛。 \n            #シブヤノオト #キンプリ pic.twitter.com/g69KxpLDlx \n— K♚P (@keiiiiiitter) 2019年6月23日 \n \n\nこれはまじで可愛すぎて妊娠した🙃 \n・・#永瀬廉 pic.twitter.com/Oh6waMbXVz \n— ♥れんちゃ♥ 永瀬廉に会える😭 (@REN_RUNA_0123) 2019年6月29日 \n \n\n6/23 シブヤノオト キンプリ永瀬廉 × 神宮寺勇太じぐれん面白すぎるww pic.twitter.com/7w9RcAtHfL \n— CHIE★ 新垢 (@7110_s1c) 2019年6月22日 \n \n\n0623. シブヤノオト Sha-la-laハジけるLove pic.twitter.com/NcBI2uSwm6 \n— ポ (@__a4252) 2019年6月23日 \n \n\n👑#KingPrince リクエストLIVE👑 \nラストはなんと2万通のリクエストをいただいた…やっぱりこの曲ですよね。 \n🎵Bounce To Nightシャツ、はだけます😇#シブヤノオト#BTN#色気スゴイ#シャツになりたい \n— シブヤノオト (@nhk_oto) 2019年6月22日 \n \n\nシブヤノオト リクエストNo.1✨Bounce To Night / King & Prince②#キンプリ #BTN pic.twitter.com/hhyzGrhUbE \n— yuzuume (@yuzuume5) 2019年6月22日 \n \nシブヤノオトで「Bounce To Night」の沼にはまった方、「Bounce To Night」は1stアルバム「King & Prince」の初回限定盤B >>に収録されていますよ。 \n \n初回限定盤A、初回限定盤B、通常盤の収録内容の違い >> \n \n「Bounce To Night」の映像を観たい方は、King & Prince First Concert Tour 2018 DVD/Blu-ray >>に収録されています。 \n \nキンプリのライブDVD/Blu-rayの収録内容などの詳細と最安ショップ >> \n\n👑#KingPrince リクエストLIVE👑楽しんでもらえましたか？８万通ものリクエスト、本当にありがとうございました👏✨ \nここで #シブヤノオト Twitterを見てくれたみなさんへプレゼント📱 \nオンエアに入りきらなかった👉メンバーに直してほしいところ👉をこのあと発表していきますっ😆 \n— シブヤノオト (@nhk_oto) 2019年6月22日 \n \n\n👉#KingPrince  #平野紫耀 に直してほしいところ👉 \n1⃣僕が買ったアクセサリーを何でも口に入れる（岸）2⃣ファッション誌の撮影のとき、眠そうなふりをして”オーガニックセクシー感”を醸し出してくる（髙橋）#オーガニックセクシー#流行ってほしい#シブヤノオト \n— シブヤノオト (@nhk_oto) 2019年6月22日 \n \n\n👉#KingPrince  #永瀬廉 に直してほしいところ👉 \n1⃣貧乏ゆすり（岸）2⃣くしゃみが爆発音💥どんなに離れていても廉のくしゃみは聞こえる（髙橋）#爆発音とは#どんなくしゃみ#謎深まる#シブヤノオト \n— シブヤノオト (@nhk_oto) 2019年6月22日 \n \n\n👉#KingPrince  #髙橋海人 に直してほしいところ👉 \n1⃣寝ているとき常に口が開いている（岸）2⃣僕の枕に毎回よだれを垂らしていく（平野）#寝顔#気になる#髙橋さんは#シブヤノオト#普段から録画して見てくれてるそう#ありがとうございます‼️ \n— シブヤノオト (@nhk_oto) 2019年6月22日 \n \n\n👉#KingPrince  #岸優太 に直してほしいところ👉 \n1⃣人の話を聞き流す（永瀬）2⃣ドタキャンの多さ ※8割（平野）#でもすぐ謝る#愛されキャラだそうです#シブヤノオト \n— シブヤノオト (@nhk_oto) 2019年6月22日 \n \n\n👉#KingPrince  #神宮寺勇太 に直してほしいところ👉 \n1⃣地味に笑ってしまう嫌がらせをしてくる（永瀬）2⃣大人っぽすぎる。みんながはしゃぐときでも落ち着いていてクールな感じが悔しい（髙橋）#神宮寺の起こし方ロケでは#全力のはしゃぎ頂きました#シブヤノオト \n— シブヤノオト (@nhk_oto) 2019年6月22日 \n \n \n\n👑#KingPrince リクエストLIVE👑 \nキンプリのNHKの思い出は他にも！平野＆岸の思い出は「１階食堂のラーメン」 \nコチラです🍜これをコショウまみれにして食べていたそう…#シブヤノオト#270円#ネギ多め無料 pic.twitter.com/XzFyFeTkbE \n— シブヤノオト (@nhk_oto) 2019年6月22日 \n \n\nシブヤノオト のホームページ >>
URL:https://smilemam.info/event/king-and-prince-shibuyanooto-20190622
END:VEVENT
BEGIN:VEVENT
DTSTART;TZID=Asia/Tokyo:20190628T200000
DTEND;TZID=Asia/Tokyo:20190628T215500
DTSTAMP:20260423T075715
CREATED:20190621T075446Z
LAST-MODIFIED:20190621T075802Z
UID:42068-1561752000-1561758900@smilemam.info
SUMMARY:【キンプリ 髙橋海人】全国ハモネプリーグ2019
DESCRIPTION:6月28日（金）20:00～21:55 フジテレビ\n［ゲスト］ 中村雅俊 藤あや子 松下奈緒 髙橋海人 HIKAKIN 小林よしひさ ら \n\nハモネプリーグ来週金曜日夜８時～放送です‼️#ハモネプ #フジテレビ #ネプチューン #お台場 #DUC #D-CAPELLA pic.twitter.com/G9MWBZGQAE \n— motofunkybeat (@motofunkybeat) 2019年6月20日 \n \n\n6/28(金)20時〜のハモネプは、 \nスマホやデータ放送と連動して視聴者が選ぶNo. 1グループを決めます！ \n参加者には賞品が当たるチャンスも！ \n先程、練習ページが立ち上がりましたのでやってみてください！ \n練習やっていただくだけでプレゼントありますんで！https://t.co/FCTpnM4J4V \n— 大村昂平【フジテレビ-26歳-】 (@ohmurachin) 2019年6月20日
URL:https://smilemam.info/event/hamonepu-league-2019-takahashi-kaito
END:VEVENT
BEGIN:VEVENT
DTSTART;TZID=Asia/Tokyo:20190722T213000
DTEND;TZID=Asia/Tokyo:20190722T215900
DTSTAMP:20260423T075715
CREATED:20190623T064657Z
LAST-MODIFIED:20190721T170135Z
UID:42146-1563831000-1563832740@smilemam.info
SUMMARY:【キンプリ】シブヤノオトPresents King ＆ Prince リクエストLIVE
DESCRIPTION:7/22（月）21:30～21:59 NHK BS4K\n\nセットリスト\n  1. Naughty Girl\n　2. 君に ありがとう \n　　スペシャルメドレー\n　　　シンデレラガール\n　　　Sha-la-laハジけるLove\n　　　君を待ってる \n　3. Bounce To Night \n\n\nシブヤノオト presents\nKing & Prince リクエストライブ \n番宣とれたー！！✨#キンプリ #KingPrince #KingandPrince #平野紫耀 #岸優太 #永瀬廉 #神宮寺勇太 #髙橋海人 #岩橋玄樹 King & Prince #シブヤノオト pic.twitter.com/8i0dURKGw7 \n— リンズ (@kinpri_lingzi) 2019年6月22日 \n \n\nNHKへの再放送の依頼は、ハッシュタグをつけてツイートだよー！！！#NHK_rerun #KingandPrince #シブヤノオト pic.twitter.com/8r9oU4fQ8E \n— ⚜️moka(´-`).｡o♡ (@moka_hsky) 2019年6月22日 \n \n  \nシブヤノオトで「Bounce To Night」の沼にはまった方、「Bounce To Night」は1stアルバム「King & Prince」の初回限定盤B >>に収録されていますよ。 \n \n初回限定盤A、初回限定盤B、通常盤の収録内容の違い >> \n  \n「Bounce To Night」の映像を観たい方は、King & Prince First Concert Tour 2018 DVD/Blu-ray >>に収録されています。 \n \nキンプリのライブDVD/Blu-rayの収録内容などの詳細と最安ショップ >> \n  \nシブヤノオト「シブヤノオトPresents King ＆ Prince リクエストLIVE」のホームページ >>
URL:https://smilemam.info/event/king-and-prince-shibuyanooto-20190722
END:VEVENT
BEGIN:VEVENT
DTSTART;TZID=Asia/Tokyo:20200405T004000
DTEND;TZID=Asia/Tokyo:20200405T014000
DTSTAMP:20260423T075715
CREATED:20200303T025146Z
LAST-MODIFIED:20200328T161018Z
UID:46244-1586047200-1586050800@smilemam.info
SUMMARY:【キンプリ】Smiling Forever 初披露 少クラ(ザ少年倶楽部)地上波で再放送
DESCRIPTION:4/5（日）午前0時40分～ 午前1時40分　NHK \nKing ＆ Prince「Smiling Forever」\nSixTONES「NEW WORLD」\nTravis Japan「Together Now」 \n「少クラ名曲アルバム」NEWS小山慶一郎・加藤シゲアキの「チラリズム」をジャニーズJr.がリメイク\n貴重なリハーサル映像\nテーマにちなみ出演者たちが笑顔をお届けするスペシャル企画 \nテーマは「笑顔」。\n番組は、King ＆ Princeとジュニアが歌う「オリジナル スマイル」でスタート！\n初披露曲満載の1時間！出演者たちの笑顔企画もお楽しみに！ \nkoi-wazuraiの初回限定盤B に収録されている曲。 \nKing ＆ Prince「Smiling Forever」神宮寺くんのパート「いつだってそばにいて守り抜くと誓うよ」って、どんなでしょう…？
URL:https://smilemam.info/event/king-and-prince-smiling-forever
END:VEVENT
BEGIN:VEVENT
DTSTART;TZID=Asia/Tokyo:20210212T180000
DTEND;TZID=Asia/Tokyo:20210212T190000
DTSTAMP:20260423T075715
CREATED:20210210T030310Z
LAST-MODIFIED:20210210T030310Z
UID:48978-1613152800-1613156400@smilemam.info
SUMMARY:【キンプリ】少クラ(ザ少年俱楽部)ナミウテココロ 披露
DESCRIPTION:2/12 18:00～19:00 \nテーマは「ＬＯＶＥ」。Ｋｉｎｇ　＆　Ｐｒｉｎｃｅは「ナミウテココロ」、ＳｉｘＴＯＮＥＳは「僕が僕じゃないみたいだ」を少クラ初披露！Ｓｎｏｗ　Ｍａｎは「Ｇｒａｎｄｅｕｒ」、ＩＭＰＡＣＴｏｒｓは「Ｓｍｉｌｅ」を！そしてＨｉＨｉ　Ｊｅｔｓは特別な演出でパフォーマンスをお届け！「教えて！ベストアンサー」では、永瀬廉・神宮寺勇太・髙橋海人が登場！「なにわ通信」では、なにわ男子がカメラに向かってキス顔を披露！
URL:https://smilemam.info/event/the-shonen-club-20210212-namiute-kokoro-king-and-prince
END:VEVENT
END:VCALENDAR