BEGIN:VCALENDAR
VERSION:2.0
PRODID:-//子育てママでも田舎でノマド Smile Mam* - ECPv6.7.0//NONSGML v1.0//EN
CALSCALE:GREGORIAN
METHOD:PUBLISH
X-WR-CALNAME:子育てママでも田舎でノマド Smile Mam*
X-ORIGINAL-URL:https://smilemam.info
X-WR-CALDESC:子育てママでも田舎でノマド Smile Mam* のイベント
REFRESH-INTERVAL;VALUE=DURATION:PT1H
X-Robots-Tag:noindex
X-PUBLISHED-TTL:PT1H
BEGIN:VTIMEZONE
TZID:Asia/Tokyo
BEGIN:STANDARD
TZOFFSETFROM:+0900
TZOFFSETTO:+0900
TZNAME:JST
DTSTART:20190101T000000
END:STANDARD
END:VTIMEZONE
BEGIN:VEVENT
DTSTART;TZID=Asia/Tokyo:20190319T045500
DTEND;TZID=Asia/Tokyo:20190319T080000
DTSTAMP:20260424T072431
CREATED:20190318T100710Z
LAST-MODIFIED:20190318T234404Z
UID:38184-1552971300-1552982400@smilemam.info
SUMMARY:【キンプリ】めざましテレビ
DESCRIPTION:3/19 めざましテレビ フジテレビ\n\n3/19 めざましテレビ" 「Yahoo！きせかえ」新CM "キンプリの着せかえワチャワチャ感が可愛いーー♡♡ pic.twitter.com/fnf6VFk3mR \n— CHIE★ (@3_s1c) 2019年3月18日 \n \nYahoo! JAPAN「Yahoo!きせかえ」TV-CMが3/20から放送\nYahoo! JAPAN「Yahoo!きせかえ」TV-CM「DRESS UP！」メイキング篇 >> \nYahoo! JAPAN「Yahoo!きせかえ」TV-CM「DRESS UP！」篇 >> \n\n19日（火）気になる人がいたらRT #めざましテレビ出るカモン③　松岡茉優　▽杏　▽市村正親　▽GACKT　▽King & Prince　▽関口メンディー　▽RADIO FISH　▽工藤美桜　☆内容変更の際はご了承下さい \n— めざましテレビ (@cx_mezamashi) 2019年3月18日 \n\n \nめざましテレビのホームページ >> \n 
URL:https://smilemam.info/event/king-and-prince-mezamashi-tv20190319
END:VEVENT
END:VCALENDAR