BEGIN:VCALENDAR
VERSION:2.0
PRODID:-//子育てママでも田舎でノマド Smile Mam* - ECPv6.7.0//NONSGML v1.0//EN
CALSCALE:GREGORIAN
METHOD:PUBLISH
X-WR-CALNAME:子育てママでも田舎でノマド Smile Mam*
X-ORIGINAL-URL:https://smilemam.info
X-WR-CALDESC:子育てママでも田舎でノマド Smile Mam* のイベント
REFRESH-INTERVAL;VALUE=DURATION:PT1H
X-Robots-Tag:noindex
X-PUBLISHED-TTL:PT1H
BEGIN:VTIMEZONE
TZID:Asia/Tokyo
BEGIN:STANDARD
TZOFFSETFROM:+0900
TZOFFSETTO:+0900
TZNAME:JST
DTSTART:20200101T000000
END:STANDARD
END:VTIMEZONE
BEGIN:VEVENT
DTSTART;TZID=Asia/Tokyo:20200423T000000
DTEND;TZID=Asia/Tokyo:20200425T010000
DTSTAMP:20260421T165644
CREATED:20200303T174949Z
LAST-MODIFIED:20200420T062332Z
UID:46259-1587600000-1587776400@smilemam.info
SUMMARY:【キンプリ永瀬廉】俺スカ(俺のスカートどこ行った)再放送 第1回、第2回
DESCRIPTION:4月22日(水)深夜24:00〜25:00 #1\n4月23日(木)深夜24:00〜25:00 #2\n4月27日(月)深夜24:00〜25:00 #3\n4月28日(火)深夜24:00〜25:00 #4  \n日レプラスでの放送です。 \n \n◆出演\n古田新太、松下奈緒、白石麻衣（乃木坂46）、永瀬廉 (King & Prince)、道枝駿佑（なにわ男子/関西ジャニーズJr.）、長尾謙杜（なにわ男子/関西ジャニーズJr.）、いとうせいこう \n俺スカ再放送の詳細 >>
URL:https://smilemam.info/event/oresuka-nagase-ren-2020
END:VEVENT
END:VCALENDAR