BEGIN:VCALENDAR
VERSION:2.0
PRODID:-//子育てママでも田舎でノマド Smile Mam* - ECPv6.7.0//NONSGML v1.0//EN
CALSCALE:GREGORIAN
METHOD:PUBLISH
X-ORIGINAL-URL:https://smilemam.info
X-WR-CALDESC:子育てママでも田舎でノマド Smile Mam* のイベント
REFRESH-INTERVAL;VALUE=DURATION:PT1H
X-Robots-Tag:noindex
X-PUBLISHED-TTL:PT1H
BEGIN:VTIMEZONE
TZID:Asia/Tokyo
BEGIN:STANDARD
TZOFFSETFROM:+0900
TZOFFSETTO:+0900
TZNAME:JST
DTSTART:20200101T000000
END:STANDARD
END:VTIMEZONE
BEGIN:VEVENT
DTSTART;TZID=Asia/Tokyo:20200207T180000
DTEND;TZID=Asia/Tokyo:20200207T190000
DTSTAMP:20260426T001534
CREATED:20200207T083331Z
LAST-MODIFIED:20200207T083331Z
UID:46131-1581098400-1581102000@smilemam.info
SUMMARY:【キンプリ(King & Prince)】ザ少年俱楽部「Memorial」を披露
DESCRIPTION:テーマは「LOVE」。SixTONESは「Imitation Rain」をフルサイズで、SixTONESの高地優吾と松村北斗は手紙で思いを伝える。Snow Manは「Crazy F-R-E-S-H Beat」を番組初パフォーマンスする。 \n「ふみキュンの夢キュンステージ」では、ふぉ～ゆ～とTravis Japanがコラボ。さらに、King & Princeは「Memorial」、Lilかんさいは「Lil miracle」を熱唱
URL:https://smilemam.info/event/20200207-king-and-prince-memorial
END:VEVENT
END:VCALENDAR