BEGIN:VCALENDAR
VERSION:2.0
PRODID:-//子育てママでも田舎でノマド Smile Mam* - ECPv6.7.0//NONSGML v1.0//EN
CALSCALE:GREGORIAN
METHOD:PUBLISH
X-WR-CALNAME:子育てママでも田舎でノマド Smile Mam*
X-ORIGINAL-URL:https://smilemam.info
X-WR-CALDESC:子育てママでも田舎でノマド Smile Mam* のイベント
REFRESH-INTERVAL;VALUE=DURATION:PT1H
X-Robots-Tag:noindex
X-PUBLISHED-TTL:PT1H
BEGIN:VTIMEZONE
TZID:Asia/Tokyo
BEGIN:STANDARD
TZOFFSETFROM:+0900
TZOFFSETTO:+0900
TZNAME:JST
DTSTART:20200101T000000
END:STANDARD
END:VTIMEZONE
BEGIN:VEVENT
DTSTART;TZID=Asia/Tokyo:20200327T180000
DTEND;TZID=Asia/Tokyo:20200327T190000
DTSTAMP:20260425T005854
CREATED:20200327T005222Z
LAST-MODIFIED:20200327T005321Z
UID:46493-1585332000-1585335600@smilemam.info
SUMMARY:【キンプリ】少クラ（ザ少年倶楽部）セレクションスペシャル
DESCRIPTION:3/27（金）18:00～19:00 NHK BSプレミアム\n司会：戸塚祥太（A.B.C-Z）と神宮寺勇太（King ＆ Prince） \n1月・2月に放送された「ザ少年倶楽部」から歌の名場面を中心にセレクト。\n放送されなかった未公開シーンも！\n今回は、ゲスト生田斗真がひさびさのホールでの歌唱で実はある事が…！？\n「少クラポリス」に登場した、ふぉ～ゆ～噂の真相は？\nLil かんさいの「ジュニアにQ」、King ＆ Princeの未公開も！ \n少クラ（ザ少年倶楽部）の詳細 >>
URL:https://smilemam.info/event/shokura20200327-king-and-prince
CATEGORIES:shokura
END:VEVENT
END:VCALENDAR