BEGIN:VCALENDAR
VERSION:2.0
PRODID:-//子育てママでも田舎でノマド Smile Mam* - ECPv6.7.0//NONSGML v1.0//EN
CALSCALE:GREGORIAN
METHOD:PUBLISH
X-WR-CALNAME:子育てママでも田舎でノマド Smile Mam*
X-ORIGINAL-URL:https://smilemam.info
X-WR-CALDESC:子育てママでも田舎でノマド Smile Mam* のイベント
REFRESH-INTERVAL;VALUE=DURATION:PT1H
X-Robots-Tag:noindex
X-PUBLISHED-TTL:PT1H
BEGIN:VTIMEZONE
TZID:Asia/Tokyo
BEGIN:STANDARD
TZOFFSETFROM:+0900
TZOFFSETTO:+0900
TZNAME:JST
DTSTART:20200101T000000
END:STANDARD
END:VTIMEZONE
BEGIN:VEVENT
DTSTART;TZID=Asia/Tokyo:20200607T004000
DTEND;TZID=Asia/Tokyo:20200607T014000
DTSTAMP:20260421T224436
CREATED:20200531T093821Z
LAST-MODIFIED:20200609T111323Z
UID:46950-1591490400-1591494000@smilemam.info
SUMMARY:【キンプリ】ザ少年俱楽部 選「特別編　パワーソング・セレクション Part.1」
DESCRIPTION:6月7日（日）00:40～1:40　NHK総合1 \n今回の「ザ少年倶楽部」は特別編！「パワーソング・セレクション」と題して、視聴者のみなさんを元気づけるジャニーズの名曲をセレクトしてお届けします！\nレギュラー出演者のＫｉｎｇ　＆　Ｐｒｉｎｃｅ、ＳｉｘＴＯＮＥＳ、ジャニーズＪｒ．、関西ジャニーズＪｒ．のパフォーマンスが満載！\nＨｉＨｉ　Ｊｅｔｓの髙橋優斗と美　少年の岩﨑大昇からのメッセージ動画もお楽しみに！  \n5月29日（金）にNHK BSプレミアムで放送された回です。
URL:https://smilemam.info/event/shokura20200607-king-and-prince
END:VEVENT
END:VCALENDAR