BEGIN:VCALENDAR
VERSION:2.0
PRODID:-//子育てママでも田舎でノマド Smile Mam* - ECPv6.7.0//NONSGML v1.0//EN
CALSCALE:GREGORIAN
METHOD:PUBLISH
X-ORIGINAL-URL:https://smilemam.info
X-WR-CALDESC:子育てママでも田舎でノマド Smile Mam* のイベント
REFRESH-INTERVAL;VALUE=DURATION:PT1H
X-Robots-Tag:noindex
X-PUBLISHED-TTL:PT1H
BEGIN:VTIMEZONE
TZID:Asia/Tokyo
BEGIN:STANDARD
TZOFFSETFROM:+0900
TZOFFSETTO:+0900
TZNAME:JST
DTSTART:20190101T000000
END:STANDARD
END:VTIMEZONE
BEGIN:VEVENT
DTSTART;TZID=Asia/Tokyo:20191213T180000
DTEND;TZID=Asia/Tokyo:20191213T190000
DTSTAMP:20260426T072929
CREATED:20191207T123534Z
LAST-MODIFIED:20191207T123534Z
UID:45867-1576260000-1576263600@smilemam.info
SUMMARY:キンプリ(King & Prince)少クラ(ザ少年俱楽部)Letter &  Big Bang披露
DESCRIPTION:12/13（金）18:00-19:00 NHK BSプレミアム
URL:https://smilemam.info/event/king-and-prince-letter-big-bang
CATEGORIES:shokura
END:VEVENT
BEGIN:VEVENT
DTSTART;TZID=Asia/Tokyo:20191227T180000
DTEND;TZID=Asia/Tokyo:20191227T190000
DTSTAMP:20260426T072929
CREATED:20191227T033606Z
LAST-MODIFIED:20191227T054347Z
UID:45953-1577469600-1577473200@smilemam.info
SUMMARY:【キンプリ(King ＆ Prince)】ザ少年俱楽部セレクションスペシャル
DESCRIPTION:「ザ少年俱楽部楽部」11月放送分から歌の名場面を中心にセレクト。A.B.C-Z河合郁人が、ゲストのKis-My-Ft2を迎えての思い出トークや「なにわ通信」の「なにわ男子あるある」など放送ではお届けできなかった未公開シーンも満載！さらに、KAT-TUN中丸雄一がKing ＆ Prince平野紫耀が館長を務めるあのコーナーに登場！司会の戸塚祥太と神宮寺勇太は、番組に届いた冬ならではのおたよりにこたえる。楽部」11月放送分から歌の名場面を中心にセレクト。A.B.C-Z河合郁人が、ゲストのKis-My-Ft2を迎えての思い出トークや「なにわ通信」の「なにわ男子あるある」など放送ではお届けできなかった未公開シーンも満載！さらに、KAT-TUN中丸雄一がKing ＆ Prince平野紫耀が館長を務めるあのコーナーに登場！司会の戸塚祥太と神宮寺勇太は、番組に届いた冬ならではのおたよりにこたえる。
URL:https://smilemam.info/event/shokura20191227-king-and-prince
END:VEVENT
END:VCALENDAR