BEGIN:VCALENDAR
VERSION:2.0
PRODID:-//子育てママでも田舎でノマド Smile Mam* - ECPv6.7.0//NONSGML v1.0//EN
CALSCALE:GREGORIAN
METHOD:PUBLISH
X-WR-CALNAME:子育てママでも田舎でノマド Smile Mam*
X-ORIGINAL-URL:https://smilemam.info
X-WR-CALDESC:子育てママでも田舎でノマド Smile Mam* のイベント
REFRESH-INTERVAL;VALUE=DURATION:PT1H
X-Robots-Tag:noindex
X-PUBLISHED-TTL:PT1H
BEGIN:VTIMEZONE
TZID:Asia/Tokyo
BEGIN:STANDARD
TZOFFSETFROM:+0900
TZOFFSETTO:+0900
TZNAME:JST
DTSTART:20200101T000000
END:STANDARD
END:VTIMEZONE
BEGIN:VEVENT
DTSTART;TZID=Asia/Tokyo:20200110T180000
DTEND;TZID=Asia/Tokyo:20200110T193000
DTSTAMP:20260426T130659
CREATED:20200107T084426Z
LAST-MODIFIED:20200107T084447Z
UID:45986-1578679200-1578684600@smilemam.info
SUMMARY:【キンプリ(King & Prince)】少クラ(ザ少年俱楽部)
DESCRIPTION:名曲満載の90分拡大版！ザ少年倶楽部 20th Anniversary Special Stage。番組は、第1回放送のダンスナンバーでスタート！ジャニーズデビュー曲メドレー＆なつかしの番組エンディング曲メドレー！さらに「山下智久プロデュース20周年企画」楽曲を、美 少年が初披露！ゲストには、KAT-TUN亀梨和也が登場！ソロ曲に加え、Snow Man、SixTONESとのコラボレーションも披露！ \nキンプリは出演しないかもしれませんが、過去の映像が流れる可能性があるため、カレンダーに追加してあります。
URL:https://smilemam.info/event/king-prince-shokura-20200110
END:VEVENT
BEGIN:VEVENT
DTSTART;TZID=Asia/Tokyo:20200124T180000
DTEND;TZID=Asia/Tokyo:20200124T190000
DTSTAMP:20260426T130659
CREATED:20200124T071357Z
LAST-MODIFIED:20200124T083829Z
UID:46058-1579888800-1579892400@smilemam.info
SUMMARY:【キンプリ 平野紫耀、神宮寺勇太、岸優太】ザ少年俱楽部
DESCRIPTION:テーマは「スタート」。\nCDデビュー直後のSnow ManとSixTONESは、それぞれのデビュー曲「D.D.」、「Imitation Rain」を番組初披露！\nKing ＆ Princeの神宮寺勇太、岸優太とA.B.C-Z戸塚祥太の3人は、少年隊の名曲をメドレーで熱唱！神宮寺が熱望していた夢の企画が実現する！\nさらに、美 少年は、山下智久プロデュース曲を披露。\n番組最後に平野紫耀の新コーナーもスタート！
URL:https://smilemam.info/event/shokura20200124-jinguji-kishi-yuta
END:VEVENT
BEGIN:VEVENT
DTSTART;TZID=Asia/Tokyo:20200131T180000
DTEND;TZID=Asia/Tokyo:20200131T190000
DTSTAMP:20260426T130659
CREATED:20200124T153249Z
LAST-MODIFIED:20200124T153249Z
UID:46083-1580493600-1580497200@smilemam.info
SUMMARY:【キンプリ(King & Prince)】ザ少年俱楽部
DESCRIPTION:テーマは「スタート」。\nゲストには、生田斗真が登場！本人のジュニア時代の思い出の1曲「君と僕の6ヵ月」をジャニーズJr.とともに熱唱！\nKing ＆ Princeは「Naughty Girl」を、Travis Japanは「Namidaの結晶」を披露する。\n番組の恒例企画「Snow Manをあばけ！」では、メンバーが本音でトーク、新たな一面が暴露される！？\nSixTONESには収録の裏側までカメラが密着！
URL:https://smilemam.info/event/shonen-club20200131-king-and-prince
END:VEVENT
END:VCALENDAR