BEGIN:VCALENDAR
VERSION:2.0
PRODID:-//子育てママでも田舎でノマド Smile Mam* - ECPv6.7.0//NONSGML v1.0//EN
CALSCALE:GREGORIAN
METHOD:PUBLISH
X-WR-CALNAME:子育てママでも田舎でノマド Smile Mam*
X-ORIGINAL-URL:https://smilemam.info
X-WR-CALDESC:子育てママでも田舎でノマド Smile Mam* のイベント
REFRESH-INTERVAL;VALUE=DURATION:PT1H
X-Robots-Tag:noindex
X-PUBLISHED-TTL:PT1H
BEGIN:VTIMEZONE
TZID:Asia/Tokyo
BEGIN:STANDARD
TZOFFSETFROM:+0900
TZOFFSETTO:+0900
TZNAME:JST
DTSTART:20200101T000000
END:STANDARD
END:VTIMEZONE
BEGIN:VEVENT
DTSTART;TZID=Asia/Tokyo:20200501T180000
DTEND;TZID=Asia/Tokyo:20200501T190000
DTSTAMP:20260424T031314
CREATED:20200427T160920Z
LAST-MODIFIED:20200427T160937Z
UID:46711-1588356000-1588359600@smilemam.info
SUMMARY:【キンプリ(King & Prince)】ザ少年倶楽部「特別編 パワーソング・セレクション Part.1」
DESCRIPTION:5/1（金）18:00～19:00 \n「パワーソング・セレクション」と題して、視聴者のみなさんを元気づけるジャニーズの名曲をセレクトしてお届けします！\nレギュラー出演者のＫｉｎｇ　＆　Ｐｒｉｎｃｅ、ＳｉｘＴＯＮＥＳ、ジャニーズＪｒ．、関西ジャニーズＪｒ．のパフォーマンスが満載！\nＨｉＨｉ　Ｊｅｔｓの髙橋優斗と美　少年の岩﨑大昇からのメッセージ動画もお楽しみに！
URL:https://smilemam.info/event/shokura-power-song-selection120200501
CATEGORIES:shokura
END:VEVENT
BEGIN:VEVENT
DTSTART;TZID=Asia/Tokyo:20200503T004000
DTEND;TZID=Asia/Tokyo:20200503T014000
DTSTAMP:20260424T031314
CREATED:20200501T041641Z
LAST-MODIFIED:20200501T041725Z
UID:46744-1588466400-1588470000@smilemam.info
SUMMARY:【キンプリ(King & Prince)】少クラ(ザ少年俱楽部) Hello！！！ハルイロ
DESCRIPTION:5/3（金）0時40分～ 1時40分　NHK \nテーマは「春」。番組は、King ＆ Princeが歌う「Hello！！！ハルイロ」でスタート。\nSnow Manは、「Snow World」を番組初披露！\n「ふみキュンの夢キュンステージ」には、Travis Japanと7 MEN 侍が登場。\nバンドとダンスがコラボレーション！\nさらに、SixTONESとSnow Manの「少クラ最年長 河合くんをおもてなし」のコーナー、少年忍者を紹介する新コーナーも！ \nNHK BSで4/3に放送された回です。
URL:https://smilemam.info/event/king-prince-hello-haruiro20200503
END:VEVENT
BEGIN:VEVENT
DTSTART;TZID=Asia/Tokyo:20200508T180000
DTEND;TZID=Asia/Tokyo:20200508T190000
DTSTAMP:20260424T031314
CREATED:20200507T063204Z
LAST-MODIFIED:20200507T063204Z
UID:46769-1588960800-1588964400@smilemam.info
SUMMARY:【キンプリ(King & Prince)】ザ少年倶楽部「特別編 パワーソング・セレクション Part.2」
DESCRIPTION:5/8（金）18:00～19:00 \n視聴者のみなさんを元気づけるジャニーズの名曲をセレクト！特別編「パワーソング・セレクション」パート2\n番組レギュラー出演者のＫｉｎｇ　＆　Ｐｒｉｎｃｅ、ＳｉｘＴＯＮＥＳ、ジャニーズＪｒ．、関西ジャニーズＪｒ．のパフォーマンスが満載！\nＨｉＨｉ　Ｊｅｔｓの髙橋優斗と美　少年の岩﨑大昇からのメッセージ動画も！それぞれのおすすめソングを紹介！
URL:https://smilemam.info/event/shokura-power-song-selection120200508
END:VEVENT
BEGIN:VEVENT
DTSTART;TZID=Asia/Tokyo:20200510T004000
DTEND;TZID=Asia/Tokyo:20200510T014000
DTSTAMP:20260424T031314
CREATED:20200507T063543Z
LAST-MODIFIED:20200507T063555Z
UID:46771-1589071200-1589074800@smilemam.info
SUMMARY:【キンプリ(King & Prince)】少クラ(ザ少年俱楽部) ゴールデンアワー
DESCRIPTION:5/10（日）0時40分～ 1時40分　NHK \nテーマは「春」。Ｋｉｎｇ　＆　Ｐｒｉｎｃｅは「ゴールデンアワー」を熱唱！\nＳｉｘＴＯＮＥＳの「Ｔｅｌｅｐｈｏｎｅ」はフルサイズでお届け！\nＡ．Ｂ．Ｃ－Ｚ河合郁人の「ふみキュンの夢キュンステージ」では、河合が収録の裏側をリポート！\n貴重なリハーサル風景などジュニアたちの意外な素顔も！\n「春の過ごし方」を聞く「ジュニアにＱ」はジャニーズＪｒ．たちに加え、今回は特別にＳｎｏｗ　Ｍａｎ、ＳｉｘＴＯＮＥＳも登場！  \nNHK BSで4/10に放送された回です。
URL:https://smilemam.info/event/king-and-prince-golden-hour20200510
END:VEVENT
BEGIN:VEVENT
DTSTART;TZID=Asia/Tokyo:20200529T180000
DTEND;TZID=Asia/Tokyo:20200529T190000
DTSTAMP:20260424T031314
CREATED:20200528T175228Z
LAST-MODIFIED:20200528T175252Z
UID:46933-1590775200-1590778800@smilemam.info
SUMMARY:【キンプリ】ザ少年俱楽部 選「特別編　パワーソング・セレクション Part.1」
DESCRIPTION:5月29日（金）午後6:00~午後7:00　NHKBSプレミアム \n今回の「ザ少年倶楽部」は特別編！「パワーソング・セレクション」と題して、視聴者のみなさんを元気づけるジャニーズの名曲をセレクトしてお届けします！\nレギュラー出演者のＫｉｎｇ　＆　Ｐｒｉｎｃｅ、ＳｉｘＴＯＮＥＳ、ジャニーズＪｒ．、関西ジャニーズＪｒ．のパフォーマンスが満載！\nＨｉＨｉ　Ｊｅｔｓの髙橋優斗と美　少年の岩﨑大昇からのメッセージ動画もお楽しみに！
URL:https://smilemam.info/event/shokura20200529-king-and-prince
END:VEVENT
BEGIN:VEVENT
DTSTART;TZID=Asia/Tokyo:20200531T100000
DTEND;TZID=Asia/Tokyo:20200531T110000
DTSTAMP:20260424T031314
CREATED:20200530T143539Z
LAST-MODIFIED:20200530T144218Z
UID:46941-1590919200-1590922800@smilemam.info
SUMMARY:【キンプリ(King & Prince)】少クラ(ザ少年俱楽部)特別編 パワーソングセレクションPart.2
DESCRIPTION:5/31（日）10:00～11:00 \n視聴者のみなさんを元気づけるジャニーズの名曲をセレクト！特別編「パワーソング・セレクション」パート２をお届けします！\n番組レギュラー出演者のＫｉｎｇ　＆　Ｐｒｉｎｃｅ、ＳｉｘＴＯＮＥＳ、ジャニーズＪｒ．、関西ジャニーズＪｒ．のパフォーマンスが満載！\nＨｉＨｉ　Ｊｅｔｓの髙橋優斗と美少年の岩﨑大昇からのメッセージ動画も！それぞれのおすすめソングを紹介
URL:https://smilemam.info/event/shokura20200531-king-and-prince
END:VEVENT
END:VCALENDAR