BEGIN:VCALENDAR
VERSION:2.0
PRODID:-//子育てママでも田舎でノマド Smile Mam* - ECPv6.7.0//NONSGML v1.0//EN
CALSCALE:GREGORIAN
METHOD:PUBLISH
X-WR-CALNAME:子育てママでも田舎でノマド Smile Mam*
X-ORIGINAL-URL:https://smilemam.info
X-WR-CALDESC:子育てママでも田舎でノマド Smile Mam* のイベント
REFRESH-INTERVAL;VALUE=DURATION:PT1H
X-Robots-Tag:noindex
X-PUBLISHED-TTL:PT1H
BEGIN:VTIMEZONE
TZID:Asia/Tokyo
BEGIN:STANDARD
TZOFFSETFROM:+0900
TZOFFSETTO:+0900
TZNAME:JST
DTSTART:20190101T000000
END:STANDARD
END:VTIMEZONE
BEGIN:VEVENT
DTSTART;TZID=Asia/Tokyo:20190808T095000
DTEND;TZID=Asia/Tokyo:20190808T112500
DTSTAMP:20260422T002053
CREATED:20190807T212632Z
LAST-MODIFIED:20190808T093802Z
UID:43465-1565257800-1565263500@smilemam.info
SUMMARY:【キンプリ 平野紫耀】ノンストップ
DESCRIPTION:８月８日（木）の放送は～小泉進次郎議員＆滝川クリステル妊娠＆結婚へ緊急会見で見せた斜め４５度▽キンプリ平野＆フィッシャーズ＆ヒカキン兄弟ら語る“夏の思い出”▽竹内力の意外な素顔▽ずん飯尾ワリカツ　ゲストは…大久保佳代子＆吉村崇　※放送は一部変更になる可能性があります。 \n— 【公式】『ノンストップ！』スタッフ (@nonstop_fujitv) August 7\, 2019 \n   \nフジテレビ \nノンストップのホームページ >>
URL:https://smilemam.info/event/nonstop20190808-hirano-sho
END:VEVENT
END:VCALENDAR