BEGIN:VCALENDAR
VERSION:2.0
PRODID:-//子育てママでも田舎でノマド Smile Mam* - ECPv6.7.0//NONSGML v1.0//EN
CALSCALE:GREGORIAN
METHOD:PUBLISH
X-WR-CALNAME:子育てママでも田舎でノマド Smile Mam*
X-ORIGINAL-URL:https://smilemam.info
X-WR-CALDESC:子育てママでも田舎でノマド Smile Mam* のイベント
REFRESH-INTERVAL;VALUE=DURATION:PT1H
X-Robots-Tag:noindex
X-PUBLISHED-TTL:PT1H
BEGIN:VTIMEZONE
TZID:Asia/Tokyo
BEGIN:STANDARD
TZOFFSETFROM:+0900
TZOFFSETTO:+0900
TZNAME:JST
DTSTART:20190101T000000
END:STANDARD
END:VTIMEZONE
BEGIN:VEVENT
DTSTART;TZID=Asia/Tokyo:20190806T014100
DTEND;TZID=Asia/Tokyo:20190806T024200
DTSTAMP:20260426T005841
CREATED:20190805T065919Z
LAST-MODIFIED:20190805T164848Z
UID:43408-1565055660-1565059320@smilemam.info
SUMMARY:【キンプリ】バズリズム02 King 6 Prince初出しSP!【再放送】誰にも言っていない初告白連発
DESCRIPTION:8/5 25:41～26:42　バズリズム　中京テレビ\n中京テレビのホームページ >>
URL:https://smilemam.info/event/buzzrhythm-king-and-prince20190805
END:VEVENT
BEGIN:VEVENT
DTSTART;TZID=Asia/Tokyo:20190719T022900
DTEND;TZID=Asia/Tokyo:20190719T033400
DTSTAMP:20260426T005841
CREATED:20190715T052655Z
LAST-MODIFIED:20190715T053038Z
UID:43056-1563503340-1563507240@smilemam.info
SUMMARY:【キンプリ】バズリズム 関西 読売テレビでの放送
DESCRIPTION:7/18（木）26:29～27:34　読売テレビ\n\n関西地方のバズリズム来週はKing&Princeだよ！7月19日(金)AM2:29〜3:34楽しみ〜💜木曜日の夜中だから間違えないようにね✨ pic.twitter.com/DDbrPT6nF3 \n— みや💜 (@yutapeaceful) 2019年7月12日 \n \n読売テレビの番組表 >> \n関連記事 \nネタバレが気にならない方は、下の記事もどうぞ。 \n【キンプリ 5人】バズリズム02(6/5収録の特別番組) >> \nキンプリ6/5収録の特別番組の番組名は?何日に放送されるかと内容 >>
URL:https://smilemam.info/event/buzzrhythm-kansai-king-and-prince
END:VEVENT
END:VCALENDAR