BEGIN:VCALENDAR
VERSION:2.0
PRODID:-//子育てママでも田舎でノマド Smile Mam* - ECPv6.7.0//NONSGML v1.0//EN
CALSCALE:GREGORIAN
METHOD:PUBLISH
X-ORIGINAL-URL:https://smilemam.info
X-WR-CALDESC:子育てママでも田舎でノマド Smile Mam* のイベント
REFRESH-INTERVAL;VALUE=DURATION:PT1H
X-Robots-Tag:noindex
X-PUBLISHED-TTL:PT1H
BEGIN:VTIMEZONE
TZID:Asia/Tokyo
BEGIN:STANDARD
TZOFFSETFROM:+0900
TZOFFSETTO:+0900
TZNAME:JST
DTSTART:20180101T000000
END:STANDARD
END:VTIMEZONE
BEGIN:VEVENT
DTSTART;TZID=Asia/Tokyo:20200902T115500
DTEND;TZID=Asia/Tokyo:20200902T135500
DTSTAMP:20260425T091952
CREATED:20200901T094657Z
LAST-MODIFIED:20200901T094657Z
UID:47732-1599047700-1599054900@smilemam.info
SUMMARY:【キンプリ 平野紫耀】ヒルナンデス！中島健人＆平野紫耀驚き手抜き美味おやつ３姉妹挑戦
DESCRIPTION:9/2（水）11:55～13:55 \n中島健人＆平野紫耀も驚き！金曜３姉妹が手抜き美味おやつづくり挑戦▼３色コーデバトルＭＣ黒羽麻璃央！土屋アンナ・辻希美・山之内すず・メドウズ舞良▼ほくろ占い \n出演者:【ＭＣ】南原清隆\n【アシスタント】梅澤廉・滝菜月（日本テレビアナウンサー）\n【出演者】久本雅美、ＳＨＥＬＬＹ、河北麻友子、陣内智則\n【ゲスト】中島健人（Ｓｅｘｙ　Ｚｏｎｅ）、平野紫耀（Ｋｉｎｇ　＆　Ｐｒｉｎｃｅ）、黒羽麻璃央、赤プル、なすなかにし、宮本和幸（スカチャン）\n【ＶＴＲ出演】土屋アンナ、辻希美、山之内すず、メドウズ舞良 \n番組内容:中島健人＆平野紫耀も爆笑＆驚きの芸人お役立ちバトル！ほくろ占い？なすなかにしオリジナルゲーム？芸人教える防災術？▼３色ＭＣは黒羽麻璃央！土屋アンナ、辻希美、山之内すず、メドウズ舞良もビックリ！▼久本ＳＨＥＬＬＹ河北の新企画！金曜３姉妹の「やればデキ女」手抜きおやつづくり！やればデキる？
URL:https://smilemam.info/event/hirunandesu20200902-hirano-sho
END:VEVENT
BEGIN:VEVENT
DTSTART;TZID=Asia/Tokyo:20200626T055000
DTEND;TZID=Asia/Tokyo:20200626T155000
DTSTAMP:20260425T091952
CREATED:20200625T152619Z
LAST-MODIFIED:20200625T161036Z
UID:47130-1593150600-1593186600@smilemam.info
SUMMARY:【キンプリ 平野紫耀】ZIP、スッキリ、ヒルナンデス、ミヤネ屋…各番組の時間も
DESCRIPTION:【番組出演情報】明日6/26(金)は…『#ZIP!』『#スッキリ』『#ヒルナンデス！』『#ミヤネ屋』『#newsevery.』に、#中島健人 さん #平野紫耀 さんが生出演します✨お見逃しなく‼️(※一部地域を除きます。放送内容が変更になる場合があります)#未満警察 #電波ジャック #日テレ \n— 「未満警察 ミッドナイトランナー」【公式】 (@kentosho2020) June 25\, 2020
URL:https://smilemam.info/event/20200626-hirano-sho
END:VEVENT
BEGIN:VEVENT
DTSTART;TZID=Asia/Tokyo:20190419T115500
DTEND;TZID=Asia/Tokyo:20190419T135500
DTSTAMP:20260425T091952
CREATED:20190419T070957Z
LAST-MODIFIED:20190419T072346Z
UID:39568-1555674900-1555682100@smilemam.info
SUMMARY:【キンプリ 永瀬廉】ヒルナンデス!
DESCRIPTION:4/19（金）11:55～13:55 ｢ヒルナンデス！｣日テレ\n\n【俺スカ / ヒルナンデス! ②】超限定マーケティングまとめ✏︎♡廉くん大活躍〜〜🥺👏🏻💕頭の回転早いね〜〜 pic.twitter.com/dqIFPduvKk \n— ののか (@hiranonoka) 2019年4月19日 \n \n\n【俺スカ / ヒルナンデス! ④】最後の番宣🥳お願いポーズが可愛すぎるれんれん🖤電波ジャックお疲れ様っ👏🏻！ pic.twitter.com/jRaUKYSNaP \n— ののか (@hiranonoka) 2019年4月19日
URL:https://smilemam.info/event/hirunandesu-king-and-prince-nagase20190419
ATTACH;FMTTYPE=image/jpeg:https://smilemam.info/wp-content/uploads/2019/03/hirunandesu.jpg
END:VEVENT
BEGIN:VEVENT
DTSTART;TZID=Asia/Tokyo:20190327T115500
DTEND;TZID=Asia/Tokyo:20190327T135500
DTSTAMP:20260425T091952
CREATED:20190320T034356Z
LAST-MODIFIED:20190327T052154Z
UID:38347-1553687700-1553694900@smilemam.info
SUMMARY:【キンプリ 平野紫耀】ヒルナンデス！
DESCRIPTION:3/27（水）11:55～13:55 ｢ヒルナンデス！｣日テレ\n3/20に放送された「ヒルナンデス！」にも平野くんが出演しましたが、27日に完結編が放送されます。 \n関連する記事\n“ゴムあたまポンたろう”はどんなお話?中身をチェック >> \n｢ヒルナンデス！｣の放送局と放送地域\n｢ヒルナンデス！｣は次の放送局で放送されています。 \n日本テレビ\n    読売テレビ\n    中京テレビ\n    札幌テレビ\n    FBS福岡放送\n    RAB青森放送\n    テレビ岩手\n    秋田放送\n    ミヤギテレビ\n    山形放送\n    福島中央テレビ\n    山梨放送\n    Daiichi-TV\n    TeNY\n    テレビ信州\n    KNBテレビ\n    テレビ金沢\n    福井放送\n    日本海テレビ\n    RNC西日本テレビ\n    広島テレビ\n    KRY\n    四国放送\n    南海放送\n    高知放送\n    長崎国際テレビ\n    くまもと県民\n    鹿児島読売テレビ\n下の手順で、番組表を確認してみてください。 \n\n下のサイトを開く\n週間テレビ番組表のサイトを開く >>\n「週間テレビ番組表」の下をクリックして、お住まいの県を選択する\n右の入力欄に「ヒルナンデス」と入力して「検索」ボタンをクリック\n\n \n \n読み込み中の〇や小さい画像をクリックすると、画像が拡大します。 \nヒルナンデスのホームページ >> \n 
URL:https://smilemam.info/event/hirunandesu-king-and-prince-hirano20190327
ATTACH;FMTTYPE=image/jpeg:https://smilemam.info/wp-content/uploads/2019/03/hirunandesu.jpg
END:VEVENT
BEGIN:VEVENT
DTSTART;TZID=Asia/Tokyo:20181022T115500
DTEND;TZID=Asia/Tokyo:20181022T135500
DTSTAMP:20260425T091952
CREATED:20181020T141230Z
LAST-MODIFIED:20181021T152158Z
UID:24397-1540209300-1540216500@smilemam.info
SUMMARY:【部ダメの岩橋・神宮寺・髙橋】ヒルナンデス(VTR出演)
DESCRIPTION:「部活、好きじゃなきゃダメですか」の高橋海人・神宮司勇太・岩橋玄樹(King& Prince) が\n【スタジオゲスト】としてVTR出演。 \n日本テレビのホームページ >> \n 
URL:https://smilemam.info/event/20181022hirunandesu
CATEGORIES:Variety
END:VEVENT
END:VCALENDAR