BEGIN:VCALENDAR
VERSION:2.0
PRODID:-//子育てママでも田舎でノマド Smile Mam* - ECPv6.7.0//NONSGML v1.0//EN
CALSCALE:GREGORIAN
METHOD:PUBLISH
X-WR-CALNAME:子育てママでも田舎でノマド Smile Mam*
X-ORIGINAL-URL:https://smilemam.info
X-WR-CALDESC:子育てママでも田舎でノマド Smile Mam* のイベント
REFRESH-INTERVAL;VALUE=DURATION:PT1H
X-Robots-Tag:noindex
X-PUBLISHED-TTL:PT1H
BEGIN:VTIMEZONE
TZID:Asia/Tokyo
BEGIN:STANDARD
TZOFFSETFROM:+0900
TZOFFSETTO:+0900
TZNAME:JST
DTSTART:20190101T000000
END:STANDARD
END:VTIMEZONE
BEGIN:VEVENT
DTSTART;TZID=Asia/Tokyo:20191102T020900
DTEND;TZID=Asia/Tokyo:20191102T145400
DTSTAMP:20260421T033806
CREATED:20191025T160007Z
LAST-MODIFIED:20191025T160048Z
UID:45374-1572660540-1572706440@smilemam.info
SUMMARY:【キンプリ 髙橋海人】東京暇人～TOKYO hi-IMAGINE～
DESCRIPTION:東京暇人 11/126:09～26:54「ブラック校則」佐藤勝利＆髙橋海人…豪華座談会 \nVTR出演 佐藤勝利 髙橋海人 田中樹 ほか pic.twitter.com/tVgDfiVTcH \n— ‌‌ (@chacokkk) October 25\, 2019 \n   \n東京暇人～TOKYO hi-IMAGINE～のホームページ >>
URL:https://smilemam.info/event/tokyo-hi-imagine20191101-takahashi-kaito
END:VEVENT
BEGIN:VEVENT
DTSTART;TZID=Asia/Tokyo:20191108T051500
DTEND;TZID=Asia/Tokyo:20191108T053000
DTSTAMP:20260421T033806
CREATED:20191107T145839Z
LAST-MODIFIED:20191107T145915Z
UID:45690-1573190100-1573191000@smilemam.info
SUMMARY:【キンプリ 髙橋海人】おはよん
DESCRIPTION:明朝5:15頃〜の予定です😊✨早起きして是非ご覧ください‼️ \n※予告なく変更の可能性ございます https://t.co/0UJVjQp9Hm \n— 『ブラック校則』公式 映画11.1👊ドラマ＆Hulu10.14 (@bla_kou2019) November 7\, 2019
URL:https://smilemam.info/event/ohayon20191108-takahashi-kaito
END:VEVENT
BEGIN:VEVENT
DTSTART;TZID=Asia/Tokyo:20200711T015900
DTEND;TZID=Asia/Tokyo:20200711T024400
DTSTAMP:20260421T033806
CREATED:20200709T163540Z
LAST-MODIFIED:20200709T163624Z
UID:47301-1594432740-1594435440@smilemam.info
SUMMARY:【キンプリ 髙橋海人】夜バゲット ブラック校則
DESCRIPTION:7/10（金）深夜1:59～2:44 \n\nSexy Zoneの佐藤勝利さん\nKing & Princeの髙橋海人さん出演\nドラマや映画で話題になった\nブラック校則がBlu-rayとDVDで登場！\nファン垂涎のメイキングを紹介！ \nブラック校則のホームページ >> \n7月15日発売
URL:https://smilemam.info/event/yoru-baguette20200810-takahashi-kaito
END:VEVENT
BEGIN:VEVENT
DTSTART;TZID=Asia/Tokyo:20200905T213000
DTEND;TZID=Asia/Tokyo:20200905T233500
DTSTAMP:20260421T033806
CREATED:20200901T095605Z
LAST-MODIFIED:20200901T095605Z
UID:47740-1599341400-1599348900@smilemam.info
SUMMARY:【キンプリ 髙橋海人】ブラック校則
DESCRIPTION:9/5（土）21:30～23:35 WOWOW \nＳｅｘｙ　Ｚｏｎｅの佐藤勝利が主演し、Ｋｉｎｇ　＆　Ｐｒｉｎｃｅの髙橋海人が共演した青春映画。冴えない高校生たちは、理不尽な校則を打ち破ろうと奔走する。 \n冴えない日々を送る高校生の小野田創楽と親友の中弥。彼らの通う高校には、理不尽に生徒を縛る“ブラック校則”が存在したが、生徒たちは問題視されることを恐れて異を唱えようとはしない。そんなある日、創楽がひそかに憧れる同級生・希央が退学の危機に陥る。彼女は生まれつきの栗毛の髪を染めるよう強要されたことに反発、不登校で出席日数が不足していたのだ。創楽と中弥は希央のため、ブラック校則をぶっ壊そうと決意する。\n \n出演／関連情報:（２０１９年　日本）\n【監督】菅原伸太郎\n【脚本】此元和津也\n【出演】佐藤勝利、髙橋海人、モトーラ世理奈、田中樹、箭内夢菜、堀田真由、坂井真紀、光石研、でんでん、薬師丸ひろ子\n【主題歌】Ｓｅｘｙ　Ｚｏｎｅ（「麒麟の子」）
URL:https://smilemam.info/event/black-kousoku20200905-takahashi-kaito
END:VEVENT
BEGIN:VEVENT
DTSTART;TZID=Asia/Tokyo:20200914T165500
DTEND;TZID=Asia/Tokyo:20200914T190000
DTSTAMP:20260421T033806
CREATED:20200912T133914Z
LAST-MODIFIED:20200912T133914Z
UID:47841-1600102500-1600110000@smilemam.info
SUMMARY:
DESCRIPTION:9/14（月）16:55～19:00 WOWOWシネマ \nかぐや様は告らせたい～天才たちの恋愛頭脳戦～のページ  \nWOWOWの番組表
URL:https://smilemam.info/event/black-kousoku20200914-takahashi-kaito
END:VEVENT
BEGIN:VEVENT
DTSTART;TZID=Asia/Tokyo:20200914T184100
DTEND;TZID=Asia/Tokyo:20200914T190000
DTSTAMP:20260421T033806
CREATED:20200912T135031Z
LAST-MODIFIED:20200912T135031Z
UID:47847-1600108860-1600110000@smilemam.info
SUMMARY:【キンプリ 髙橋海人】ブラック校則
DESCRIPTION:9/14（月）16:55～19:00 WOWOWシネマ \nこのサイトのカレンダーの都合上、このカレンダーでの開始時間は「かぐや様は告らせたい」の後の18:41～になっていますが、実際の放送は16:55からです。 \nＳｅｘｙ　Ｚｏｎｅの佐藤勝利が主演し、Ｋｉｎｇ　＆　Ｐｒｉｎｃｅの髙橋海人が共演した青春映画。冴えない高校生たちは、理不尽な校則を打ち破ろうと奔走する。 \n冴えない日々を送る高校生の小野田創楽と親友の中弥。彼らの通う高校には、理不尽に生徒を縛る“ブラック校則”が存在したが、生徒たちは問題視されることを恐れて異を唱えようとはしない。そんなある日、創楽がひそかに憧れる同級生・希央が退学の危機に陥る。彼女は生まれつきの栗毛の髪を染めるよう強要されたことに反発、不登校で出席日数が不足していたのだ。創楽と中弥は希央のため、ブラック校則をぶっ壊そうと決意する。\n \n出演／関連情報:（２０１９年　日本）\n【監督】菅原伸太郎\n【脚本】此元和津也\n【出演】佐藤勝利、髙橋海人、モトーラ世理奈、田中樹、箭内夢菜、堀田真由、坂井真紀、光石研、でんでん、薬師丸ひろ子\n【主題歌】Ｓｅｘｙ　Ｚｏｎｅ（「麒麟の子」）
URL:https://smilemam.info/event/black-kousoku20200914-takahashi-kaito-2
END:VEVENT
END:VCALENDAR