BEGIN:VCALENDAR
VERSION:2.0
PRODID:-//子育てママでも田舎でノマド Smile Mam* - ECPv6.7.0//NONSGML v1.0//EN
CALSCALE:GREGORIAN
METHOD:PUBLISH
X-WR-CALNAME:子育てママでも田舎でノマド Smile Mam*
X-ORIGINAL-URL:https://smilemam.info
X-WR-CALDESC:子育てママでも田舎でノマド Smile Mam* のイベント
REFRESH-INTERVAL;VALUE=DURATION:PT1H
X-Robots-Tag:noindex
X-PUBLISHED-TTL:PT1H
BEGIN:VTIMEZONE
TZID:Asia/Tokyo
BEGIN:STANDARD
TZOFFSETFROM:+0900
TZOFFSETTO:+0900
TZNAME:JST
DTSTART:20190101T000000
END:STANDARD
END:VTIMEZONE
BEGIN:VEVENT
DTSTART;TZID=Asia/Tokyo:20190906T060000
DTEND;TZID=Asia/Tokyo:20190906T080000
DTSTAMP:20260425T235354
CREATED:20190905T173402Z
LAST-MODIFIED:20190905T180620Z
UID:44439-1567749600-1567756800@smilemam.info
SUMMARY:【キンプリ 髙橋海人】アサデス。
DESCRIPTION:9/6（金）6:00〜8:00\n\n9月6日(金)▽佐藤勝利(SexyZone) ▽綾野剛 ▽杉咲花 ▽髙橋海人（King & Prince）▽レオナルド・ディカプリオの記者会見にこだしぇんしぇーが直撃!!　ほか※予定は変更になる可能性があります#アサデス #ワンス・アポン・ア・タイム・イン・ハリウッド \n— アサデス。公式 (@asadesu0600) September 5\, 2019 \n   \nブラック校則のことでしょうか。
URL:https://smilemam.info/event/asadesu-20190906-takahashi-kaito
END:VEVENT
BEGIN:VEVENT
DTSTART;TZID=Asia/Tokyo:20190907T020900
DTEND;TZID=Asia/Tokyo:20190907T145400
DTSTAMP:20260425T235354
CREATED:20190831T140652Z
LAST-MODIFIED:20190904T025800Z
UID:44193-1567822140-1567868040@smilemam.info
SUMMARY:【キンプリ 髙橋海人】東京暇人～TOKYO hi-IMAGINE～
DESCRIPTION:2019年9月6日（金）  26時09分～26時54分\n下半期日テレ映画大特集！\n(1)奇跡のクロスオーバー!「HiGH&LOW THE WORST」\n(2)「キミだけにモテたいんだ」\n(3)佐藤勝利×高橋海人！「ブラック校則」 \n東京暇人～TOKYO hi-IMAGINE～の詳細 >>
URL:https://smilemam.info/event/tokyo-hi-imagine20190906-takahashi-kaito
END:VEVENT
END:VCALENDAR