BEGIN:VCALENDAR
VERSION:2.0
PRODID:-//子育てママでも田舎でノマド Smile Mam* - ECPv6.7.0//NONSGML v1.0//EN
CALSCALE:GREGORIAN
METHOD:PUBLISH
X-ORIGINAL-URL:https://smilemam.info
X-WR-CALDESC:子育てママでも田舎でノマド Smile Mam* のイベント
REFRESH-INTERVAL;VALUE=DURATION:PT1H
X-Robots-Tag:noindex
X-PUBLISHED-TTL:PT1H
BEGIN:VTIMEZONE
TZID:Asia/Tokyo
BEGIN:STANDARD
TZOFFSETFROM:+0900
TZOFFSETTO:+0900
TZNAME:JST
DTSTART:20190101T000000
END:STANDARD
END:VTIMEZONE
BEGIN:VEVENT
DTSTART;TZID=Asia/Tokyo:20191014T115500
DTEND;TZID=Asia/Tokyo:20191014T135500
DTSTAMP:20260421T094859
CREATED:20191013T140836Z
LAST-MODIFIED:20191013T141916Z
UID:45154-1571054100-1571061300@smilemam.info
SUMMARY:【キンプリ 髙橋海人】ヒルナンデス!
DESCRIPTION:10/14（月）11:55-13:55　日本テレビ系\n「ブラック校則」のSexy Zone佐藤勝利とキンプリ（King & Prince）髙橋海人が出演。 \n『ヒルナンデス！』のホームページ >>
URL:https://smilemam.info/event/hirunandesu20191014-takahashi-kaito
END:VEVENT
BEGIN:VEVENT
DTSTART;TZID=Asia/Tokyo:20191015T005900
DTEND;TZID=Asia/Tokyo:20191015T012900
DTSTAMP:20260421T094859
CREATED:20191002T141910Z
LAST-MODIFIED:20191014T164012Z
UID:44913-1571101140-1571102940@smilemam.info
SUMMARY:【キンプリ 髙橋海人】ブラック校則
DESCRIPTION:10/14 24:59~25:29 日テレ系\nブラ校が放送されない、またはまだ放送されない地域の方、見逃してしまった方は、 \nブラック校則(ドラマ)第1話(10/14)動画を無料で視聴-デイリーモーションやパンドラでみられる? >>をどうぞ。 \n日テレが放送されない地域での放送日時については、 \nブラック校則(ドラマ)の放送開始日と放送される地域-ストーリーとキャスト&主題歌も　>> \nを参照してください。
URL:https://smilemam.info/event/black-kosoku-20191014-takahashi-kaito
END:VEVENT
END:VCALENDAR