BEGIN:VCALENDAR
VERSION:2.0
PRODID:-//子育てママでも田舎でノマド Smile Mam* - ECPv6.7.0//NONSGML v1.0//EN
CALSCALE:GREGORIAN
METHOD:PUBLISH
X-WR-CALNAME:子育てママでも田舎でノマド Smile Mam*
X-ORIGINAL-URL:https://smilemam.info
X-WR-CALDESC:子育てママでも田舎でノマド Smile Mam* のイベント
REFRESH-INTERVAL;VALUE=DURATION:PT1H
X-Robots-Tag:noindex
X-PUBLISHED-TTL:PT1H
BEGIN:VTIMEZONE
TZID:Asia/Tokyo
BEGIN:STANDARD
TZOFFSETFROM:+0900
TZOFFSETTO:+0900
TZNAME:JST
DTSTART:20190101T000000
END:STANDARD
END:VTIMEZONE
BEGIN:VEVENT
DTSTART;TZID=Asia/Tokyo:20191108T051500
DTEND;TZID=Asia/Tokyo:20191108T053000
DTSTAMP:20260423T202133
CREATED:20191107T145839Z
LAST-MODIFIED:20191107T145915Z
UID:45690-1573190100-1573191000@smilemam.info
SUMMARY:【キンプリ 髙橋海人】おはよん
DESCRIPTION:明朝5:15頃〜の予定です😊✨早起きして是非ご覧ください‼️ \n※予告なく変更の可能性ございます https://t.co/0UJVjQp9Hm \n— 『ブラック校則』公式 映画11.1👊ドラマ＆Hulu10.14 (@bla_kou2019) November 7\, 2019
URL:https://smilemam.info/event/ohayon20191108-takahashi-kaito
END:VEVENT
END:VCALENDAR