BEGIN:VCALENDAR
VERSION:2.0
PRODID:-//子育てママでも田舎でノマド Smile Mam* - ECPv6.7.0//NONSGML v1.0//EN
CALSCALE:GREGORIAN
METHOD:PUBLISH
X-WR-CALNAME:子育てママでも田舎でノマド Smile Mam*
X-ORIGINAL-URL:https://smilemam.info
X-WR-CALDESC:子育てママでも田舎でノマド Smile Mam* のイベント
REFRESH-INTERVAL;VALUE=DURATION:PT1H
X-Robots-Tag:noindex
X-PUBLISHED-TTL:PT1H
BEGIN:VTIMEZONE
TZID:Asia/Tokyo
BEGIN:STANDARD
TZOFFSETFROM:+0900
TZOFFSETTO:+0900
TZNAME:JST
DTSTART:20190101T000000
END:STANDARD
END:VTIMEZONE
BEGIN:VEVENT
DTSTART;TZID=Asia/Tokyo:20190914T195600
DTEND;TZID=Asia/Tokyo:20190914T205400
DTSTAMP:20260424T025516
CREATED:20190910T153134Z
LAST-MODIFIED:20190910T153215Z
UID:44581-1568490960-1568494440@smilemam.info
SUMMARY:【キンプリ 平野紫耀】世界一受けたい授業
DESCRIPTION:9/14（土）19:56～20:54 日テレ\n世界一受けたい授業のホームページ >>
URL:https://smilemam.info/event/sekaiichi-uketai-jyugyo-20190914-hirano-sho
END:VEVENT
END:VCALENDAR