BEGIN:VCALENDAR
VERSION:2.0
PRODID:-//子育てママでも田舎でノマド Smile Mam* - ECPv6.7.0//NONSGML v1.0//EN
CALSCALE:GREGORIAN
METHOD:PUBLISH
X-ORIGINAL-URL:https://smilemam.info
X-WR-CALDESC:子育てママでも田舎でノマド Smile Mam* のイベント
REFRESH-INTERVAL;VALUE=DURATION:PT1H
X-Robots-Tag:noindex
X-PUBLISHED-TTL:PT1H
BEGIN:VTIMEZONE
TZID:Asia/Tokyo
BEGIN:STANDARD
TZOFFSETFROM:+0900
TZOFFSETTO:+0900
TZNAME:JST
DTSTART:20190101T000000
END:STANDARD
END:VTIMEZONE
BEGIN:VEVENT
DTSTART;TZID=Asia/Tokyo:20190906T083000
DTEND;TZID=Asia/Tokyo:20190906T110000
DTSTAMP:20260425T215438
CREATED:20190901T133545Z
LAST-MODIFIED:20190901T133615Z
UID:44206-1567758600-1567767600@smilemam.info
SUMMARY:【キンプリ 平野紫耀】9/6｢有馬隼人とらじおと山瀬まみと｣TBSラジオ
DESCRIPTION:9/6（金）8:30～11:00 TBSラジオ\n｢有馬隼人とらじおと山瀬まみと｣のホームページ >>
URL:https://smilemam.info/event/arima-to-radio-to-yamasemami-20190906-hirano-sho
END:VEVENT
END:VCALENDAR