BEGIN:VCALENDAR
VERSION:2.0
PRODID:-//子育てママでも田舎でノマド Smile Mam* - ECPv6.7.0//NONSGML v1.0//EN
CALSCALE:GREGORIAN
METHOD:PUBLISH
X-ORIGINAL-URL:https://smilemam.info
X-WR-CALDESC:子育てママでも田舎でノマド Smile Mam* のイベント
REFRESH-INTERVAL;VALUE=DURATION:PT1H
X-Robots-Tag:noindex
X-PUBLISHED-TTL:PT1H
BEGIN:VTIMEZONE
TZID:Asia/Tokyo
BEGIN:STANDARD
TZOFFSETFROM:+0900
TZOFFSETTO:+0900
TZNAME:JST
DTSTART:20190101T000000
END:STANDARD
END:VTIMEZONE
BEGIN:VEVENT
DTSTART;TZID=Asia/Tokyo:20190330T015500
DTEND;TZID=Asia/Tokyo:20190330T022500
DTSTAMP:20260420T184521
CREATED:20190327T164050Z
LAST-MODIFIED:20190327T164106Z
UID:38712-1553910900-1553912700@smilemam.info
SUMMARY:【RIDE ON TIME】Snow Man密着 episode4(フジテレビ)
DESCRIPTION:3月29日(金)  25:55～26:25 \n「滝沢歌舞伎ZERO～Snow Man、飛躍の大舞台へ～」EPISODE4 舞い続けよ \nSnow Man密着のRIDE ON TIMEは関西や東海でいつ放映?放送されない地域で観る方法 >> \nSnow Man密着のRIDE ON TIMEは東北・中部・西日本でいつ放映?観られない地域で観る方法 >> \n  \nRIDE ON TIMEのホームページ >>
URL:https://smilemam.info/event/ride-on-time-snow-man-episode4
CATEGORIES:rideontime
ATTACH;FMTTYPE=image/jpeg:https://smilemam.info/wp-content/uploads/2018/10/ride-on-time2.jpg
END:VEVENT
END:VCALENDAR