BEGIN:VCALENDAR
VERSION:2.0
PRODID:-//子育てママでも田舎でノマド Smile Mam* - ECPv6.7.0//NONSGML v1.0//EN
CALSCALE:GREGORIAN
METHOD:PUBLISH
X-ORIGINAL-URL:https://smilemam.info
X-WR-CALDESC:子育てママでも田舎でノマド Smile Mam* のイベント
REFRESH-INTERVAL;VALUE=DURATION:PT1H
X-Robots-Tag:noindex
X-PUBLISHED-TTL:PT1H
BEGIN:VTIMEZONE
TZID:Asia/Tokyo
BEGIN:STANDARD
TZOFFSETFROM:+0900
TZOFFSETTO:+0900
TZNAME:JST
DTSTART:20200101T000000
END:STANDARD
END:VTIMEZONE
BEGIN:VEVENT
DTSTART;TZID=Asia/Tokyo:20201227T180000
DTEND;TZID=Asia/Tokyo:20201227T210000
DTSTAMP:20260420T050330
CREATED:20201224T174321Z
LAST-MODIFIED:20201224T174407Z
UID:48772-1609092000-1609102800@smilemam.info
SUMMARY:【キンプリ 平野紫耀】爆笑！明石家さんまのご長寿グランプリ２０２０
DESCRIPTION:12/27（日）18:00～21:00 \n今年もご長寿早押しクイズで笑い納め！爆笑解答連発の地方予選＆最強ご長寿５人で頂上決戦だ▽過去の自分に贈るご長寿ビデオレター！深〜い名言の数々に感動…のはずが爆笑 \n\n今夜は爆笑納め！５時間ＳＰ　６時から爆笑！ご長寿ＧＰ＆９時からは爆笑！ターンテーブル…コラボ企画も満載▽撮れたて！ご長寿早押しクイズ最新作…過去の名解答傑作選は永久保存版▽過去自分に爆笑＆感動メッセージ…ご長寿ビデオレター▽キンプリ平野がアノ名物ご長寿に悩み相談 \n出演者:＜Ｍ　Ｃ＞　明石家さんま\n＜ゲスト＞　日村勇紀（バナナマン）／近藤春菜（ハリセンボン）／平野紫耀（King&Prince）／滝沢カレン／吉村崇（平成ノブシコブシ）
URL:https://smilemam.info/event/sanma-no-gochojyu-2020-hirano-sho
END:VEVENT
END:VCALENDAR